BEGIN:VCALENDAR
VERSION:2.0
PRODID:-//CINF - Centro de Inovação Norberto Frahm - ECPv6.8.2//NONSGML v1.0//EN
CALSCALE:GREGORIAN
METHOD:PUBLISH
X-ORIGINAL-URL:https://cinf.com.br
X-WR-CALDESC:Eventos para CINF - Centro de Inovação Norberto Frahm
REFRESH-INTERVAL;VALUE=DURATION:PT1H
X-Robots-Tag:noindex
X-PUBLISHED-TTL:PT1H
BEGIN:VTIMEZONE
TZID:America/Sao_Paulo
BEGIN:STANDARD
TZOFFSETFROM:-0300
TZOFFSETTO:-0300
TZNAME:-03
DTSTART:20230101T000000
END:STANDARD
END:VTIMEZONE
BEGIN:VEVENT
DTSTART;TZID=America/Sao_Paulo:20230518T193000
DTEND;TZID=America/Sao_Paulo:20230518T203000
DTSTAMP:20260421T211045
CREATED:20230420T144955Z
LAST-MODIFIED:20230530T143755Z
UID:9809-1684438200-1684441800@cinf.com.br
SUMMARY:Palestra: O simples Assusta - 18/05
DESCRIPTION:Palestra: O simples Assusta com Alexandre Weimer\n“Um conteúdo incomodativo com dicas e técnicas para aplicarmos em nossas rotinas e aumentar a performance em vendas”.\nData: 18/05/2023\nHorário: 19h30\nLocal: Clube Recreativo Floresta. Agrolândia/SC\nInscrições (gratuitas): http://sebrae.sc/palestra-o-simples-assusta \nOrganização: Sebrae e Associação Empresarial de Agrolândia – AEA.
URL:https://cinf.com.br/evento/palestra-o-simples-assusta-18-05/
ATTACH;FMTTYPE=image/jpeg:https://cinf.com.br/wp-content/uploads/2023/04/18.05-palestra.jpeg
END:VEVENT
END:VCALENDAR