BEGIN:VCALENDAR
VERSION:2.0
PRODID:-//CINF - Centro de Inovação Norberto Frahm - ECPv6.8.2//NONSGML v1.0//EN
CALSCALE:GREGORIAN
METHOD:PUBLISH
X-WR-CALNAME:CINF - Centro de Inovação Norberto Frahm
X-ORIGINAL-URL:https://cinf.com.br
X-WR-CALDESC:Eventos para CINF - Centro de Inovação Norberto Frahm
REFRESH-INTERVAL;VALUE=DURATION:PT1H
X-Robots-Tag:noindex
X-PUBLISHED-TTL:PT1H
BEGIN:VTIMEZONE
TZID:America/Sao_Paulo
BEGIN:STANDARD
TZOFFSETFROM:-0300
TZOFFSETTO:-0300
TZNAME:-03
DTSTART:20250101T000000
END:STANDARD
END:VTIMEZONE
BEGIN:VEVENT
DTSTART;TZID=America/Sao_Paulo:20251005T130000
DTEND;TZID=America/Sao_Paulo:20251005T180000
DTSTAMP:20260423T211437
CREATED:20250131T172557Z
LAST-MODIFIED:20250131T172557Z
UID:13598-1759669200-1759687200@cinf.com.br
SUMMARY:TEDx Rio do Sul - 05/10
DESCRIPTION:🎯❌ O ano de 2025 está só começando e nós já nos envolvemos nos preparativos para a nossa sétima edição. Tem muita coisa para acontecer ainda\, e estamos muito empolgados para trazer mais novidades para vocês. Fiquem de olho nas nossas redes\, voltaremos em breve.⁠\n⁠\n🗓️ Reserve a data na sua agenda.⁠ 05/10/2025 será mágico!\n⁠
URL:https://cinf.com.br/evento/tedx-rio-do-sul-05-10/
LOCATION:CINF – Centro de Inovação Norberto Frahm\, Rua Herculano Nunes Teixeira\, 105 - Budag\, Rio do Sul\, Santa Catarina\, 89165-475
ATTACH;FMTTYPE=image/png:https://cinf.com.br/wp-content/uploads/2025/01/Captura-de-tela-2025-01-31-131747.png
END:VEVENT
END:VCALENDAR