BEGIN:VCALENDAR
VERSION:2.0
PRODID:-//CINF - Centro de Inovação Norberto Frahm - ECPv6.8.2//NONSGML v1.0//EN
CALSCALE:GREGORIAN
METHOD:PUBLISH
X-WR-CALNAME:CINF - Centro de Inovação Norberto Frahm
X-ORIGINAL-URL:https://cinf.com.br
X-WR-CALDESC:Eventos para CINF - Centro de Inovação Norberto Frahm
REFRESH-INTERVAL;VALUE=DURATION:PT1H
X-Robots-Tag:noindex
X-PUBLISHED-TTL:PT1H
BEGIN:VTIMEZONE
TZID:America/Sao_Paulo
BEGIN:STANDARD
TZOFFSETFROM:-0300
TZOFFSETTO:-0300
TZNAME:-03
DTSTART:20250101T000000
END:STANDARD
END:VTIMEZONE
BEGIN:VEVENT
DTSTART;TZID=America/Sao_Paulo:20251129T200000
DTEND;TZID=America/Sao_Paulo:20251129T213000
DTSTAMP:20260422T185842
CREATED:20251124T134240Z
LAST-MODIFIED:20251124T134240Z
UID:14680-1764446400-1764451800@cinf.com.br
SUMMARY:Reabertura do Teatro Embaixo da Ponte - 29/11 - CINF
DESCRIPTION:🌟Reabertura do Teatro Embaixo da Ponte aqui no CINF – Confira o 1º espetáculo aberto ao público🌟 \nA Descoberta das Américas – com Julio Adrião\n29/11 (sáb) • ⏰ 20h\n📍 Debaixo da Ponte Curt Hering\nEm anexo ao CINF | Rua Herculano Nunes Teixeira\, 105 – Budag\, Rio do Sul\n🔎 Classificação: 14 anos\n🎟️ Gratuito – necessário retirar ingresso no Sympla. Confira e faça sua inscrição:\nhttps://www.sympla.com.br/evento/a-descoberta-das-americas-julio-adriao-reinauguracao-do-teatro-embaixo-da-ponte/3216814 \n🎭Confira a programação no instagram: https://www.instagram.com/teatroembaixodaponte/
URL:https://cinf.com.br/evento/reabertura-do-teatro-embaixo-da-ponte-29-11-cinf/
ATTACH;FMTTYPE=image/jpeg:https://cinf.com.br/wp-content/uploads/2025/11/29-11.jpg
END:VEVENT
END:VCALENDAR