BEGIN:VCALENDAR
VERSION:2.0
PRODID:-//CINF - Centro de Inovação Norberto Frahm - ECPv6.8.2//NONSGML v1.0//EN
CALSCALE:GREGORIAN
METHOD:PUBLISH
X-ORIGINAL-URL:https://cinf.com.br
X-WR-CALDESC:Eventos para CINF - Centro de Inovação Norberto Frahm
REFRESH-INTERVAL;VALUE=DURATION:PT1H
X-Robots-Tag:noindex
X-PUBLISHED-TTL:PT1H
BEGIN:VTIMEZONE
TZID:America/Sao_Paulo
BEGIN:STANDARD
TZOFFSETFROM:-0300
TZOFFSETTO:-0300
TZNAME:-03
DTSTART:20240101T000000
END:STANDARD
END:VTIMEZONE
BEGIN:VEVENT
DTSTART;TZID=America/Sao_Paulo:20240406T090000
DTEND;TZID=America/Sao_Paulo:20240406T120000
DTSTAMP:20260425T123348
CREATED:20240401T182522Z
LAST-MODIFIED:20240401T182834Z
UID:11782-1712394000-1712404800@cinf.com.br
SUMMARY:Seminário de Turismo e Empreendedorismo de Ituporanga - 06/04
DESCRIPTION:Seminário de turismo e empreendedorismo de Ituporanga ocorrerá junto da Festa da Cebola 2024 em Ituporanga. \nData: 06/04/2024 – Sábado\nProgramação das 8h às 11h com Café da Manhã\, Palestras e Painel voltado ao empreendedorismo regional.\nA inscrição é limitada a 250 pessoas e não terá custo. Dá acesso inclusive a entrada normal da festa da cebola no sábado.\nLocal: Parque da Cebola em Ituporanga. \nFormulário de inscrição: https://forms.gle/r5aYawRrWyMm3GnM8\n*No formulário também tem opção para estar nos outros dias em outros 2 seminários. \nA participação é limitada a 250 pessoas conforme disponibilidade de vagas na inscrição.
URL:https://cinf.com.br/evento/seminario-de-turismo-e-empreendedorismo-de-ituporanga-06-04/
LOCATION:Parque da Cebola\, SC-350 - Cerro Negro\, Ituporanga - SC\, 88400-000
ATTACH;FMTTYPE=image/jpeg:https://cinf.com.br/wp-content/uploads/2024/04/06.04-Turismo-de-Ituporanga.jpg
END:VEVENT
END:VCALENDAR