BEGIN:VCALENDAR
VERSION:2.0
PRODID:-//CINF - Centro de Inovação Norberto Frahm - ECPv6.8.2//NONSGML v1.0//EN
CALSCALE:GREGORIAN
METHOD:PUBLISH
X-WR-CALNAME:CINF - Centro de Inovação Norberto Frahm
X-ORIGINAL-URL:https://cinf.com.br
X-WR-CALDESC:Eventos para CINF - Centro de Inovação Norberto Frahm
REFRESH-INTERVAL;VALUE=DURATION:PT1H
X-Robots-Tag:noindex
X-PUBLISHED-TTL:PT1H
BEGIN:VTIMEZONE
TZID:America/Sao_Paulo
BEGIN:STANDARD
TZOFFSETFROM:-0300
TZOFFSETTO:-0300
TZNAME:-03
DTSTART:20250101T000000
END:STANDARD
END:VTIMEZONE
BEGIN:VEVENT
DTSTART;TZID=America/Sao_Paulo:20250819T080000
DTEND;TZID=America/Sao_Paulo:20250819T100000
DTSTAMP:20260423T030157
CREATED:20250717T163809Z
LAST-MODIFIED:20250806T172239Z
UID:14154-1755590400-1755597600@cinf.com.br
SUMMARY:Reforma Tributária - Impactos para o Setor de Software - 19/08 - NIAVI
DESCRIPTION:Desbloqueie o Futuro Tributário do seu Negócio: Inscrições Abertas para Evento Exclusivo sobre os Impactos da Reforma Tributária no Setor de Tecnologia. \nVocê está preparado para navegar pelas mudanças significativas que a Reforma Tributária trará para o setor de Tecnologia da Informação? Junte-se a nós no dia 19 de agosto de 2025\, às 8h da manhã\, no Espaço Baviera\, em Rio do Sul\, SC\, e descubra como se adaptar e prosperar nesse novo cenário. \nTema do Evento: “Os Impactos da Reforma Tributária para o Setor de Tecnologia” \nPalestrante Experiente: Eduardo Salvalágio\, renomado Advogado Tributarista do Grupo FiscALL\, compartilhará sua expertise para iluminar os caminhos e oportunidades que surgem com a Reforma Tributária. \nRealização: NIAVI | Polo Acate Alto Vale – Entidade comprometida em fomentar o crescimento e a inovação no setor de tecnologia. \nDetalhes do Evento:\n– Data: 19 de agosto de 2025\n– Horário: 8h da manhã\n– Local: Espaço Baviera\, Albertina\, Rio do Sul\, SC \nInscreva-se agora e fique à frente das mudanças!\nhttps://www.sympla.com.br/evento/workshop-impactos-da-reforma-tributaria-para-o-setor-de-tecnologia/3065605 \nNão perca a chance de entender como a Reforma Tributária afetará seu negócio e como você pode se beneficiar disso. Garanta sua vaga e participe de uma discussão crucial para o futuro do setor de Tecnologia.
URL:https://cinf.com.br/evento/reforma-tributaria-impactos-para-o-setor-de-software-19-08-niavi/
ATTACH;FMTTYPE=image/jpeg:https://cinf.com.br/wp-content/uploads/2025/07/19.08.2025.jpeg
END:VEVENT
END:VCALENDAR