BEGIN:VCALENDAR
VERSION:2.0
PRODID:-//CINF - Centro de Inovação Norberto Frahm - ECPv6.8.2//NONSGML v1.0//EN
CALSCALE:GREGORIAN
METHOD:PUBLISH
X-WR-CALNAME:CINF - Centro de Inovação Norberto Frahm
X-ORIGINAL-URL:https://cinf.com.br
X-WR-CALDESC:Eventos para CINF - Centro de Inovação Norberto Frahm
REFRESH-INTERVAL;VALUE=DURATION:PT1H
X-Robots-Tag:noindex
X-PUBLISHED-TTL:PT1H
BEGIN:VTIMEZONE
TZID:America/Sao_Paulo
BEGIN:STANDARD
TZOFFSETFROM:-0300
TZOFFSETTO:-0300
TZNAME:-03
DTSTART:20250101T000000
END:STANDARD
END:VTIMEZONE
BEGIN:VEVENT
DTSTART;TZID=America/Sao_Paulo:20250827T193000
DTEND;TZID=America/Sao_Paulo:20250827T203000
DTSTAMP:20260424T001259
CREATED:20250820T113909Z
LAST-MODIFIED:20250821T130620Z
UID:14309-1756323000-1756326600@cinf.com.br
SUMMARY:Palestra - Conectou\, Converteu\, Cresceu. Resultados reais participando de eventos de negócios - 27/08
DESCRIPTION:Palestra: “CONECTOU\, CONVERTEU\, CRESCEU! Resultados reais participando de eventos de negócios”\n27 de Agosto – quarta-feira – 19h – Auditório NPJ UNIDAVI – Rio do Sul \nInvestimento:\n \n\nEmpresas associadas: R$ 50\,00\n\nNão associadas: R$ 100\,00\n\nProjeto MPI – Conectando Soluções 2025: Isento\n\nEstudantes UNIDAVI: Isento (apresentar carteirinha)\n\nO objetivo é mostrar como a participação estratégica em eventos pode gerar conexões\, oportunidades e crescimento para profissionais e empresas. O tema será detalhado por Priscilla Domingos\, CEO da RP Marketing\, que trará dados\, cases reais e dicas práticas para mostrar como eventos bem aproveitados podem gerar valor\, visibilidade e crescimento sustentável. \nInscrição aqui. \nOutras informações pelo WhatsApp: (47) 99262-7416 – Simmmers
URL:https://cinf.com.br/evento/palestra-conectou-converteu-cresceu-resultados-reais-participando-de-eventos-de-negocios-27-08/
LOCATION:SC
ATTACH;FMTTYPE=image/jpeg:https://cinf.com.br/wp-content/uploads/2025/08/Palestra-28.jpg
END:VEVENT
END:VCALENDAR