BEGIN:VCALENDAR
VERSION:2.0
PRODID:-//CINF - Centro de Inovação Norberto Frahm - ECPv6.8.2//NONSGML v1.0//EN
CALSCALE:GREGORIAN
METHOD:PUBLISH
X-WR-CALNAME:CINF - Centro de Inovação Norberto Frahm
X-ORIGINAL-URL:https://cinf.com.br
X-WR-CALDESC:Eventos para CINF - Centro de Inovação Norberto Frahm
REFRESH-INTERVAL;VALUE=DURATION:PT1H
X-Robots-Tag:noindex
X-PUBLISHED-TTL:PT1H
BEGIN:VTIMEZONE
TZID:America/Sao_Paulo
BEGIN:STANDARD
TZOFFSETFROM:-0300
TZOFFSETTO:-0300
TZNAME:-03
DTSTART:20250101T000000
END:STANDARD
END:VTIMEZONE
BEGIN:VEVENT
DTSTART;TZID=America/Sao_Paulo:20250729T190000
DTEND;TZID=America/Sao_Paulo:20250729T203000
DTSTAMP:20260423T144736
CREATED:20250717T195528Z
LAST-MODIFIED:20250717T195528Z
UID:14156-1753815600-1753821000@cinf.com.br
SUMMARY:Palestra - Sucesso do Cliente” com Brenda Bublitz em Presidente Getúlio - 29/07 - Niavi
DESCRIPTION:Convite para evento em Presidente Getúlio! \nNo dia 29/07\, às 19h\, participe da palestra “Sucesso do Cliente” com Brenda Bublitz\, especialista em marketing\, vendas e experiência do cliente no setor de tecnologia e indústria. \n👉 Evento aberto ao público\, realizado em parceria entre o NIAVI | Polo ACATE Alto Vale e a ACIPG – Associação Empresarial de Presidente Getúlio. 👤 Sobre a palestrante: Brenda é natural de Rio do Sul/SC\, lidera o time de marketing e vendas da Atinos Importadora e atua há mais de 5 anos com foco em sucesso e experiência do cliente. \n📍 Local: ACIPG – Rua Mirador\, 489\, Centro Comercial Junglos\, 2º andar – Presidente Getúlio/SC \n🔗 Inscreva-se gratuitamente: sympla.com.br/evento/palestra-sucesso-do-cliente/3032333 \n🎯 Uma excelente oportunidade para empreendedores\, profissionais e equipes que querem crescer com foco no cliente!
URL:https://cinf.com.br/evento/palestra-sucesso-do-cliente-com-brenda-bublitz-em-presidente-getulio-29-07-niavi/
LOCATION:SC
ATTACH;FMTTYPE=image/jpeg:https://cinf.com.br/wp-content/uploads/2025/07/ACIPG.jpeg
END:VEVENT
END:VCALENDAR