BEGIN:VCALENDAR
VERSION:2.0
PRODID:-//CINF - Centro de Inovação Norberto Frahm - ECPv6.8.2//NONSGML v1.0//EN
CALSCALE:GREGORIAN
METHOD:PUBLISH
X-ORIGINAL-URL:https://cinf.com.br
X-WR-CALDESC:Eventos para CINF - Centro de Inovação Norberto Frahm
REFRESH-INTERVAL;VALUE=DURATION:PT1H
X-Robots-Tag:noindex
X-PUBLISHED-TTL:PT1H
BEGIN:VTIMEZONE
TZID:America/Sao_Paulo
BEGIN:STANDARD
TZOFFSETFROM:-0300
TZOFFSETTO:-0300
TZNAME:-03
DTSTART:20240101T000000
END:STANDARD
END:VTIMEZONE
BEGIN:VEVENT
DTSTART;TZID=America/Sao_Paulo:20240924T190000
DTEND;TZID=America/Sao_Paulo:20240924T203000
DTSTAMP:20260425T132838
CREATED:20240923T114018Z
LAST-MODIFIED:20240923T114018Z
UID:12837-1727204400-1727209800@cinf.com.br
SUMMARY:Palestra - IA para profissionais de Recursos Humanos
DESCRIPTION:No dia 24 de setembro\, às 19h\, no Auditório da Unimed Alto Vale\, teremos a oportunidade de explorar como a Inteligência Artificial pode auxiliar o campo de Recursos Humanos.\nInscreva-se agora mesmo utilizando o link: epa.link/e7t2\nData: 24/09\nHorário: 19h\nLocal: Auditório Unimed Alto Vale \nEsperamos você profissional de RH com um delicioso coffee!\nSua presença será muito importante para nós!\nParticipação gratuita.
URL:https://cinf.com.br/evento/palestra-ia-para-profissionais-de-recursos-humanos/
LOCATION:Auditório Unimed Alto Vale
ATTACH;FMTTYPE=image/jpeg:https://cinf.com.br/wp-content/uploads/2024/09/Futuro-da-IA-RH.jpeg
END:VEVENT
END:VCALENDAR