BEGIN:VCALENDAR
VERSION:2.0
PRODID:-//CINF - Centro de Inovação Norberto Frahm - ECPv6.8.2//NONSGML v1.0//EN
CALSCALE:GREGORIAN
METHOD:PUBLISH
X-ORIGINAL-URL:https://cinf.com.br
X-WR-CALDESC:Eventos para CINF - Centro de Inovação Norberto Frahm
REFRESH-INTERVAL;VALUE=DURATION:PT1H
X-Robots-Tag:noindex
X-PUBLISHED-TTL:PT1H
BEGIN:VTIMEZONE
TZID:America/Sao_Paulo
BEGIN:STANDARD
TZOFFSETFROM:-0300
TZOFFSETTO:-0300
TZNAME:-03
DTSTART:20230101T000000
END:STANDARD
END:VTIMEZONE
BEGIN:VEVENT
DTSTART;TZID=America/Sao_Paulo:20230605T190000
DTEND;TZID=America/Sao_Paulo:20230626T220000
DTSTAMP:20260423T073738
CREATED:20230518T111238Z
LAST-MODIFIED:20230530T143019Z
UID:9872-1685991600-1687816800@cinf.com.br
SUMMARY:Workshop: Venda mais através da comunicação persuasiva - 05 a 26/06
DESCRIPTION:Venda mais através da comunicação persuasiva\n\nVocê é um bom vendedor?\n\nPara ser um vendedor de destaque e conseguir sucesso nas vendas é necessário dominar os 3Cs: \n✅ Conhecimento\n✅ Confiança\n✅ Comunicação \nOs 3 Cs da venda são como um tripé. Não adianta ser muito bom em um deles\, se o outro é um ponto fraco. Suas vendas não vão parar de pé! \nO treinamento VENDA MAIS ATRAVÉS DA COMUNICAÇÃO PERSUASIVA\, desenvolvido pela Remake Business em parceria com a ACIRS\, traz esses 3 pilares como prioridades na formação de qualquer vendedor de sucesso. \nQuem conhece a Remake sabe que não tem palestrinha com eles. O negócio é mão na massa e nesse treinamento não poderia ser diferente! Vão ser 4 segundas-feiras de muita prática e diversas atividades para serem realizadas entre os encontros. Tudo isso através da já testada e aprovada Metodologia Remake e dentro de uma estrutura gameficada. \nNesse treinamento serão abordados tópicos como: \n➡️ Gatilhos mentais para contornar objeções\n➡️ Condução da negociação e fechamento\n➡️ Equilíbrio emocional na hora da venda\n➡️ Esteja no controle!\n➡️ Seja um bom ouvinte\n➡️ Como se comunicar com cada público\n➡️ E vários outros… \n1 encontro por semana durante 4 semanas \n( 05\, 12\, 19 e 26 de junho) \nInicio dia 05/06/2023 as 19:00 horas até 22:00 horas \n⚠️ Faça sua inscrição agora mesmo para garantir sua participação. Afinal\, as vagas são limitadas! \nInvestimento por participante \nR$ 1.200\,00 para associado (consultar a equipe)    ou    R$ 1.300\,00 para não-associado \nEm até 10x no cartão \nFicou com dúvidas? Entre em contato com a gente! ? \nTelefone / WhatsApp: (47) 3531 0500 (47) 9 9128 2070 \nRemake Business\n(47) 9 9920 5557\nremakebusiness.com.br \n\nInscrições: https://eventos.acirs.com.br/evento/venda-mais-atravs-da-comunicao-persuasiva-1
URL:https://cinf.com.br/evento/workshop-venda-mais-atraves-da-comunicacao-persuasiva-05-a-26-06/
LOCATION:Santa Catarina
ATTACH;FMTTYPE=image/png:https://cinf.com.br/wp-content/uploads/2023/05/Nacho.png
END:VEVENT
END:VCALENDAR