BEGIN:VCALENDAR
VERSION:2.0
PRODID:-//CINF - Centro de Inovação Norberto Frahm - ECPv6.8.2//NONSGML v1.0//EN
CALSCALE:GREGORIAN
METHOD:PUBLISH
X-WR-CALNAME:CINF - Centro de Inovação Norberto Frahm
X-ORIGINAL-URL:https://cinf.com.br
X-WR-CALDESC:Eventos para CINF - Centro de Inovação Norberto Frahm
REFRESH-INTERVAL;VALUE=DURATION:PT1H
X-Robots-Tag:noindex
X-PUBLISHED-TTL:PT1H
BEGIN:VTIMEZONE
TZID:America/Sao_Paulo
BEGIN:STANDARD
TZOFFSETFROM:-0300
TZOFFSETTO:-0300
TZNAME:-03
DTSTART:20250101T000000
END:STANDARD
END:VTIMEZONE
BEGIN:VEVENT
DTSTART;TZID=America/Sao_Paulo:20250327T190000
DTEND;TZID=America/Sao_Paulo:20250327T203000
DTSTAMP:20260424T125534
CREATED:20250310T120419Z
LAST-MODIFIED:20250310T122549Z
UID:13742-1743102000-1743107400@cinf.com.br
SUMMARY:Palestra - Por que alguns negócios de varejo dão certo? - 27/03
DESCRIPTION:📢 Você já se perguntou por que alguns negócios de varejo prosperam e outros não? \nA CDL de Rio do Sul e o Sebrae/SC convidam você para um evento exclusivo de capacitação e treinamento para o comércio e varejo da região! 🚀 \n• Comportamentos dos empreendedores dos varejos que dão certo\n• Critérios de sucesso para o seu varejo\n• O varejo físico vai morrer ou não?\n• Oportunidades para seu negócio\n• Experiência do cliente\n• Como construir um time orientado para o cliente no varejo?\n• E amanhã\, o que podemos fazer diferente? \n🎟️ Garanta sua vaga:\nhttps://forms.office.com/r/F57EGsSf9n \n🗓 Data: 27 de março\n🕖 Horário: 19h\n📍 Local: CINF – Rua Herculano Nunes Teixeira\, 105\, Rio do Sul/SC
URL:https://cinf.com.br/evento/palestra-por-que-alguns-negocios-de-varejo-dao-certo-27-03/
LOCATION:CINF – Centro de Inovação Norberto Frahm\, Rua Herculano Nunes Teixeira\, 105 - Budag\, Rio do Sul\, Santa Catarina\, 89165-475
ATTACH;FMTTYPE=image/jpeg:https://cinf.com.br/wp-content/uploads/2025/03/27-03-Varejo.jpeg
END:VEVENT
END:VCALENDAR