BEGIN:VCALENDAR
VERSION:2.0
PRODID:-//CINF - Centro de Inovação Norberto Frahm - ECPv6.8.2//NONSGML v1.0//EN
CALSCALE:GREGORIAN
METHOD:PUBLISH
X-ORIGINAL-URL:https://cinf.com.br
X-WR-CALDESC:Eventos para CINF - Centro de Inovação Norberto Frahm
REFRESH-INTERVAL;VALUE=DURATION:PT1H
X-Robots-Tag:noindex
X-PUBLISHED-TTL:PT1H
BEGIN:VTIMEZONE
TZID:America/Sao_Paulo
BEGIN:STANDARD
TZOFFSETFROM:-0300
TZOFFSETTO:-0300
TZNAME:-03
DTSTART:20240101T000000
END:STANDARD
END:VTIMEZONE
BEGIN:VEVENT
DTSTART;TZID=America/Sao_Paulo:20240404T190000
DTEND;TZID=America/Sao_Paulo:20240404T200000
DTSTAMP:20260421T224229
CREATED:20240327T124119Z
LAST-MODIFIED:20240327T124315Z
UID:11755-1712257200-1712260800@cinf.com.br
SUMMARY:1º Banco de Cérebros de 2024 🧠💡 - 04/04
DESCRIPTION:Vem aí o 1º Banco de Cérebros do ano. O já tradicional encontro é promovido pelo Núcleo de Inovação\, onde um empreendimento central  traz suas dores/desafios\, e os participantes do dia\, com seus conhecimentos e experiências\, podem sugerir soluções para  melhorias e novas oportunidades. 🏢🚀 \nO evento é aberto a toda comunidade\, um espaço de networking\, troca de saberes e muita conexão\, onde tanto o empreendedor central como os participantes são beneficiados através da troca de conhecimento.\nVenha conhecer a dinâmica\, participar\, aproveitar novas ideias e fazer networking🚀 \n🗓️ 04/04\n🕒 19h\n📍 CINF – Centro de Inovação Norberto Frahm\n🔗Inscreva-se aqui – bit.ly/banco01-24 \nApoio: ACIRS\, CINF e CENI.
URL:https://cinf.com.br/evento/1o-banco-de-cerebros-de-2024-%f0%9f%a7%a0%f0%9f%92%a1-04-04/
LOCATION:CINF – Centro de Inovação Norberto Frahm\, Rua Herculano Nunes Teixeira\, 105 - Budag\, Rio do Sul\, Santa Catarina\, 89165-475
ATTACH;FMTTYPE=image/jpeg:https://cinf.com.br/wp-content/uploads/2024/03/Banco-de-Cerebro-04.04.jpeg
END:VEVENT
END:VCALENDAR