BEGIN:VCALENDAR
VERSION:2.0
PRODID:-//CINF - Centro de Inovação Norberto Frahm - ECPv6.8.2//NONSGML v1.0//EN
CALSCALE:GREGORIAN
METHOD:PUBLISH
X-ORIGINAL-URL:https://cinf.com.br
X-WR-CALDESC:Eventos para CINF - Centro de Inovação Norberto Frahm
REFRESH-INTERVAL;VALUE=DURATION:PT1H
X-Robots-Tag:noindex
X-PUBLISHED-TTL:PT1H
BEGIN:VTIMEZONE
TZID:America/Sao_Paulo
BEGIN:STANDARD
TZOFFSETFROM:-0300
TZOFFSETTO:-0300
TZNAME:-03
DTSTART:20240101T000000
END:STANDARD
END:VTIMEZONE
BEGIN:VEVENT
DTSTART;TZID=America/Sao_Paulo:20241119T193000
DTEND;TZID=America/Sao_Paulo:20241119T210000
DTSTAMP:20260423T191523
CREATED:20241112T060003Z
LAST-MODIFIED:20241112T060426Z
UID:13141-1732044600-1732050000@cinf.com.br
SUMMARY:Turismo\, Como Fazer? Case Vale Europeu - Núcleo de Turismo e Gastronomia Acirs - 19/11
DESCRIPTION:O desenvolvimento do turismo\, este é o objetivo deste EVENTO GRATUITO promovido pelo Núcleo de Turismo e Gastronomia da ACIRS \n📆 Dia 19 de novembro \n⏰ 19h30 \n📍Sede da ADR Unidavi\, bairro Albertina – Rio do Sul\, SC \nInscrição GRATUITA pelo +55 47 9153-7214 com Adalberto. \n🍤 Teremos um delicioso Finger Food com muito network logo após o evento. \nVocê é nosso convidado para conhecer de perto toda a experiência acumulada pelo Circuito Vale Europeu na promoção do turismo. \nArlete Regilene Scoz\, Turismóloga\, como gestora dos Circuitos do Vale Europeu Catarinense desde 2016 é responsável pelo desenvolvimento Regional de Turismo e Cultura e lidera ações como: o Selo de Inspeção Municipal no Consórcio Intermunicipal do Médio Vale do Itajaí – CIMVI; Programa Vale Europeu Sustentável; Programa de Cultura e Sustentabilidade nas escolas; Aprimoramento dos meios de hospedagem com regulamentação e certificação dos empreendimentos; Programa de identidade cultural local e regional para o artesanato.
URL:https://cinf.com.br/evento/turismo-como-fazer-case-vale-europeu-nucleo-de-turismo-e-gastronomia-acirs-19-11/
LOCATION:Sede da ADR Unidavi\, bairro Albertina – Rio do Sul\, SC
ATTACH;FMTTYPE=image/jpeg:https://cinf.com.br/wp-content/uploads/2024/11/19.11-Turismo.jpeg
END:VEVENT
END:VCALENDAR