BEGIN:VCALENDAR
VERSION:2.0
PRODID:-//CINF - Centro de Inovação Norberto Frahm - ECPv6.8.2//NONSGML v1.0//EN
CALSCALE:GREGORIAN
METHOD:PUBLISH
X-WR-CALNAME:CINF - Centro de Inovação Norberto Frahm
X-ORIGINAL-URL:https://cinf.com.br
X-WR-CALDESC:Eventos para CINF - Centro de Inovação Norberto Frahm
REFRESH-INTERVAL;VALUE=DURATION:PT1H
X-Robots-Tag:noindex
X-PUBLISHED-TTL:PT1H
BEGIN:VTIMEZONE
TZID:America/Sao_Paulo
BEGIN:STANDARD
TZOFFSETFROM:-0300
TZOFFSETTO:-0300
TZNAME:-03
DTSTART:20240101T000000
END:STANDARD
END:VTIMEZONE
BEGIN:VEVENT
DTSTART;TZID=America/Sao_Paulo:20241008T081500
DTEND;TZID=America/Sao_Paulo:20241008T100000
DTSTAMP:20260425T074158
CREATED:20241004T131941Z
LAST-MODIFIED:20241004T131941Z
UID:12891-1728375300-1728381600@cinf.com.br
SUMMARY:Reunião Integrada do NIAVI Polo Acate Alto Vale e Núcleo de Sucesso e Experiência do Cliente da ACIRS! - 08/10
DESCRIPTION:📢 Reunião Integrada do NIAVI Polo Acate Alto Vale e Núcleo de Sucesso e Experiência do Cliente da ACIRS! \n🗓️ Data: 08/10 \n🕕 Horário: 8h15 \n📍 Local: Anfiteatro do Núcleo de Práticas Jurídicas (NPJ) da UNIDAVI\, em Rio do Sul \nJunte-se a nós para uma manhã de insights valiosos e troca de experiências! Teremos: \n🎤 Palestra: O Sucesso do Cliente como Vantagem Competitiva \nCom Francieli\, gerente de sucesso e experiência do cliente no hub de tecnologia da maior cervejaria do mundo e fundadora do CS Leader. \n📈 Case de CS da Evolutize \nCom Deise Vicente\, gestora de equipes\, especialista em ERP\, com foco em garantir uma experiência excepcional para o cliente. \nNão perca essa oportunidade de aprender com profissionais de destaque! \n*Evento EXCLUSIVO para nucleados do @niaviacirs e @nucleo.csx \nLink para inscrição: https://bit.ly/NIAVI_e_CSX
URL:https://cinf.com.br/evento/reuniao-integrada-do-niavi-polo-acate-alto-vale-e-nucleo-de-sucesso-e-experiencia-do-cliente-da-acirs-08-10/
LOCATION:UNIDAVI
ATTACH;FMTTYPE=image/jpeg:https://cinf.com.br/wp-content/uploads/2024/10/08.10-NIAVI-EVENTO.jpg
END:VEVENT
END:VCALENDAR