BEGIN:VCALENDAR
VERSION:2.0
PRODID:-//CINF - Centro de Inovação Norberto Frahm - ECPv6.8.2//NONSGML v1.0//EN
CALSCALE:GREGORIAN
METHOD:PUBLISH
X-ORIGINAL-URL:https://cinf.com.br
X-WR-CALDESC:Eventos para CINF - Centro de Inovação Norberto Frahm
REFRESH-INTERVAL;VALUE=DURATION:PT1H
X-Robots-Tag:noindex
X-PUBLISHED-TTL:PT1H
BEGIN:VTIMEZONE
TZID:America/Sao_Paulo
BEGIN:STANDARD
TZOFFSETFROM:-0300
TZOFFSETTO:-0300
TZNAME:-03
DTSTART:20240101T000000
END:STANDARD
END:VTIMEZONE
BEGIN:VEVENT
DTSTART;TZID=America/Sao_Paulo:20240618T073000
DTEND;TZID=America/Sao_Paulo:20240618T090000
DTSTAMP:20260425T121037
CREATED:20240617T171329Z
LAST-MODIFIED:20240617T171329Z
UID:12183-1718695800-1718701200@cinf.com.br
SUMMARY:Palestra Finanças Pessoais - 18/06
DESCRIPTION:Palestra Finanças Pessoais – 18/06\n7h30 da manhã\nLocal: Centro de Inovação Norberto Frahm – CINF\nRua: Herculano Nunes Teixeira\, 105 – Budag\, Rio do Sul – SC.\nInscrição gratuita aqui: Google Forms\nMais informações: @niaviacirs
URL:https://cinf.com.br/evento/palestra-financas-pessoais-18-06/
LOCATION:CINF – Centro de Inovação Norberto Frahm\, Rua Herculano Nunes Teixeira\, 105 - Budag\, Rio do Sul\, Santa Catarina\, 89165-475
ATTACH;FMTTYPE=image/jpeg:https://cinf.com.br/wp-content/uploads/2024/06/18.06-Palestra-Sicredi.jpg
END:VEVENT
END:VCALENDAR