BEGIN:VCALENDAR
VERSION:2.0
PRODID:-//CINF - Centro de Inovação Norberto Frahm - ECPv6.8.2//NONSGML v1.0//EN
CALSCALE:GREGORIAN
METHOD:PUBLISH
X-WR-CALNAME:CINF - Centro de Inovação Norberto Frahm
X-ORIGINAL-URL:https://cinf.com.br
X-WR-CALDESC:Eventos para CINF - Centro de Inovação Norberto Frahm
REFRESH-INTERVAL;VALUE=DURATION:PT1H
X-Robots-Tag:noindex
X-PUBLISHED-TTL:PT1H
BEGIN:VTIMEZONE
TZID:America/Sao_Paulo
BEGIN:STANDARD
TZOFFSETFROM:-0300
TZOFFSETTO:-0300
TZNAME:-03
DTSTART:20230101T000000
END:STANDARD
END:VTIMEZONE
BEGIN:VEVENT
DTSTART;VALUE=DATE:20230731
DTEND;VALUE=DATE:20230801
DTSTAMP:20260425T203243
CREATED:20230725T122743Z
LAST-MODIFIED:20230801T135725Z
UID:10474-1690761600-1690847999@cinf.com.br
SUMMARY:1º Meeting Rio do Sul em Desenvolvimento - 31/07
DESCRIPTION:1º Meeting Rio do Sul em Desenvolvimento\n\n\n\n????️  31 DE JULHO DE 2023 \n???? Horários abaixo\, por atividade\n???? O ingresso às atividades é gratuito\n???? As atividades presenciais acontecerão no Centro de Inovação Norberto Frahm – CINF \n???? Rua Herculano Nunes Teixeira\, 105\, Budag – Rio do Sul – Santa Catarina\n\n\n⚠️ Os links de acesso às atividades VIRTUAIS serão enviados para os contatos informados abaixo\, a partir da sexta\, dia 28. Preencha os campos com atenção.\n\nProgramação:\n08:00 – VIRTUAL – Painel Educação (A confirmar)\n10:30 – PRESENCIAL – Painel Infraestrutura de Transportes\, com Alysson de Andrade e Jerry Comper\n12:00 – ALMOÇO NO CINF (Por adesão e vagas limitadas)\n13:30 – VIRTUAL – Painel Prevenção e Mitigação de Desastres\, com Carlos Tucci e Eduardo Macedo\n16:00 – VIRTUAL – Painel Parques dos Rios\, com Frederico Hanai e Gabriel Neves\n18:00 – VIRTUAL – 59ª Reunião Plenária Ordinária do Codensul\n19:00 – VIRTUAL – Painel Cidade mais humana\, inteligente e sustentável\, com Ana María Cáceres e Eduardo da Costa \nInscrições: https://docs.google.com/forms/d/e/1FAIpQLSeVNV7W71XZWxkfU_2oZuiqstjXFvPCPfwLoqKV4cLTaicnFA/viewform\nMais informações: @codensulrsl
URL:https://cinf.com.br/evento/1o-meeting-rio-do-sul-em-desenvolvimento-31-07/
LOCATION:CINF – Centro de Inovação Norberto Frahm\, Rua Herculano Nunes Teixeira\, 105 - Budag\, Rio do Sul\, Santa Catarina\, 89165-475
ATTACH;FMTTYPE=image/jpeg:https://cinf.com.br/wp-content/uploads/2023/07/Meeting-Rio-do-Sul.jpg
END:VEVENT
END:VCALENDAR