BEGIN:VCALENDAR
VERSION:2.0
PRODID:-//CINF - Centro de Inovação Norberto Frahm - ECPv6.8.2//NONSGML v1.0//EN
CALSCALE:GREGORIAN
METHOD:PUBLISH
X-WR-CALNAME:CINF - Centro de Inovação Norberto Frahm
X-ORIGINAL-URL:https://cinf.com.br
X-WR-CALDESC:Eventos para CINF - Centro de Inovação Norberto Frahm
REFRESH-INTERVAL;VALUE=DURATION:PT1H
X-Robots-Tag:noindex
X-PUBLISHED-TTL:PT1H
BEGIN:VTIMEZONE
TZID:America/Sao_Paulo
BEGIN:STANDARD
TZOFFSETFROM:-0300
TZOFFSETTO:-0300
TZNAME:-03
DTSTART:20230101T000000
END:STANDARD
END:VTIMEZONE
BEGIN:VEVENT
DTSTART;TZID=America/Sao_Paulo:20230621T133000
DTEND;TZID=America/Sao_Paulo:20230621T193000
DTSTAMP:20260421T191047
CREATED:20230530T175740Z
LAST-MODIFIED:20230530T180852Z
UID:10075-1687354200-1687375800@cinf.com.br
SUMMARY:Workshop: Marketing Day - 21/06
DESCRIPTION:MARKETING DAY – Para pequenos negócios.\nUm evento promovido pelo Núcleo de Marketing e Vendas da ACIRS.\n\nQuando? Dia 21 de Junho de 2023 das 13h30 às 19h30\nOnde? Será um Evento Presencial na ACIRS – CINF – Sala Mezanino \nDescrição do Evento:\nO marketing na prática\, para pequenos empresários e comerciantes\, tem o objetivo de educar e contribuir com novas perspectivas do ponto de vista profissional do Núcleo de Marketing e Vendas da ACIRS.\nAprenda sobre branding\, conteúdo para redes sociais\, tráfego pago\, como gerar novas ideias para seu negócio\, atendimento ágil para vender mais e cases de sucesso.\n\nDinâmica: Serão 5 trilhas de até 30 minutos e 3 cases de sucesso de empresas do Alto Vale\, ministrados pelos profissionais das áreas de comunicação\, marketing e vendas da ACIRS. Os profissionais são formados por publicitários\, jornalistas\, designers e tecnólogos de marketing. O foco são pequenos empresários de vários segmentos\, desde lojistas a prestadores de serviços.\n\nProgramação:\n13h30 – Abertura\n14h30 – Branding: Como construir valor para a marca de uma pequena empresa\n14h35 – Case: Branding na prática com Denim Zero\n15h10 – Conteúdo para Redes Sociais: O que pode virar assunto relevante para suas postagens\n15h45 – Coffe Break 16h20 – Tráfego Pago: Dicas e estratégias para negócios locais\n16h55 – Case: Postos Pilão – Conteúdo humanizado nas redes sociais\n17h30 – Design Thinking: Como gerar novas ideias para seu negócio\n18h05 – Atendimento ágil para aumentar suas vendas\n18h35 – Case: Carmella Acessórios \nInscrições: https://www.sympla.com.br/evento/marketing-day/2006545\nAproveitem pois as vagas são limitadas em até 100 participantes.\nMais informações acesse o Instagram do Núcleo de Marketing e Vendas da Acirs: @numav.riodosul
URL:https://cinf.com.br/evento/workshop-marketing-day-21-06/
LOCATION:CINF – Centro de Inovação Norberto Frahm\, Rua Herculano Nunes Teixeira\, 105 - Budag\, Rio do Sul\, Santa Catarina\, 89165-475
ATTACH;FMTTYPE=image/jpeg:https://cinf.com.br/wp-content/uploads/2023/05/POSTAGEM-MKTDAY-Nanda-JF48.jpeg
END:VEVENT
END:VCALENDAR