BEGIN:VCALENDAR
VERSION:2.0
PRODID:-//CINF - Centro de Inovação Norberto Frahm - ECPv6.8.2//NONSGML v1.0//EN
CALSCALE:GREGORIAN
METHOD:PUBLISH
X-WR-CALNAME:CINF - Centro de Inovação Norberto Frahm
X-ORIGINAL-URL:https://cinf.com.br
X-WR-CALDESC:Eventos para CINF - Centro de Inovação Norberto Frahm
REFRESH-INTERVAL;VALUE=DURATION:PT1H
X-Robots-Tag:noindex
X-PUBLISHED-TTL:PT1H
BEGIN:VTIMEZONE
TZID:America/Sao_Paulo
BEGIN:STANDARD
TZOFFSETFROM:-0300
TZOFFSETTO:-0300
TZNAME:-03
DTSTART:20250101T000000
END:STANDARD
END:VTIMEZONE
BEGIN:VEVENT
DTSTART;VALUE=DATE:20250313
DTEND;VALUE=DATE:20250317
DTSTAMP:20260423T193705
CREATED:20250114T115941Z
LAST-MODIFIED:20250114T115941Z
UID:13547-1741824000-1742169599@cinf.com.br
SUMMARY:2º Agroplantas Laurentino - 13 a 16/03
DESCRIPTION:Prepare-se para a 2ª Agroplantas em Laurentino/SC! De 13 a 16 de março de 2025\, no Parque do Queijo\, será realizada a feira de plantas nativas e ornamentais com shows incríveis de San Francisco\, Rick & Renner\, Guilherme & Benuto\, e Maiara & Maraisa. Pontos de venda de ingressos nas cidades de Laurentino\, Rio do Sul\, Rio do Oeste e Agronômica\, ou online em: www.oingressos.com.br Garanta seu lugar e aproveite essa festa cheia de natureza\, música e diversão!
URL:https://cinf.com.br/evento/2o-agroplantas-laurentino-13-a-16-03/
ATTACH;FMTTYPE=image/jpeg:https://cinf.com.br/wp-content/uploads/2025/01/Agroplantas.jpg
END:VEVENT
END:VCALENDAR