BEGIN:VCALENDAR
VERSION:2.0
PRODID:-//CINF - Centro de Inovação Norberto Frahm - ECPv6.8.2//NONSGML v1.0//EN
CALSCALE:GREGORIAN
METHOD:PUBLISH
X-WR-CALNAME:CINF - Centro de Inovação Norberto Frahm
X-ORIGINAL-URL:https://cinf.com.br
X-WR-CALDESC:Eventos para CINF - Centro de Inovação Norberto Frahm
REFRESH-INTERVAL;VALUE=DURATION:PT1H
X-Robots-Tag:noindex
X-PUBLISHED-TTL:PT1H
BEGIN:VTIMEZONE
TZID:America/Sao_Paulo
BEGIN:STANDARD
TZOFFSETFROM:-0300
TZOFFSETTO:-0300
TZNAME:-03
DTSTART:20230101T000000
END:STANDARD
END:VTIMEZONE
BEGIN:VEVENT
DTSTART;VALUE=DATE:20230520
DTEND;VALUE=DATE:20230528
DTSTAMP:20260420T145731
CREATED:20230516T134057Z
LAST-MODIFIED:20230530T143748Z
UID:9861-1684540800-1685231999@cinf.com.br
SUMMARY:Semana da Indústria Alto Vale do Itajaí - 20 a 27/05
DESCRIPTION:Maio chegou com a  super programação gratuita da Semana da Indústria! \nUma iniciativa coletiva entre as casas da FIESC (SESI\, SENAI\, IEL)\, Sindicatos Patronais e ACIRS. ???? \nFeirões de Emprego\, Palestras\, Lives e Podcasts aguardando você\, com muito conteúdo de qualidade e oportunidades! ✨ \nEscolha seus eventos e faça sua inscrição em shre.ink/semanadaindustriaavi
URL:https://cinf.com.br/evento/semana-da-industria-alto-vale-do-itajai-20-a-27-05/
LOCATION:Santa Catarina
ATTACH;FMTTYPE=image/jpeg:https://cinf.com.br/wp-content/uploads/2023/05/Semana-da-Industria.jpeg
END:VEVENT
BEGIN:VEVENT
DTSTART;TZID=America/Sao_Paulo:20230522T140000
DTEND;TZID=America/Sao_Paulo:20230522T153000
DTSTAMP:20260420T145731
CREATED:20230516T134441Z
LAST-MODIFIED:20230530T143738Z
UID:9864-1684764000-1684769400@cinf.com.br
SUMMARY:Palestra: Saúde Mental e Gestão Estratégica de Talentos - 22/05
DESCRIPTION:Fazer gestão de pessoas é desafio e tanto\, não é mesmo? \nPara te ajudar nisso\, convidamos a psicóloga Rúbia Pein para falar sobre Saúde Mental e te dar algumas ideia de como lidar com esse tema na sua instituição. \nTeremos também a presença da gestora estadual do IEL\, Eliza Coral\, falando sobre Gestão Estratégica de Talentos. Imperdível\, né? \nFaça sua inscrição gratuita em shre.ink/semanadaindustriaavi \nSegunda\, dia 22\, às 14h\, no SESI!
URL:https://cinf.com.br/evento/palestra-saude-mental-e-gestao-estrategica-de-talentos-22-05/
LOCATION:Sesi Rio do Sul\, R. Pref. Wenceslau Borini\, 2690 - Canta Galo\, Rio do Sul - SC.\, Rio do Sul\, Santa Catarina\, 89160000\, Brasil
ATTACH;FMTTYPE=image/jpeg:https://cinf.com.br/wp-content/uploads/2023/05/Evento-22.05.jpeg
END:VEVENT
END:VCALENDAR