BEGIN:VCALENDAR
VERSION:2.0
PRODID:-//CINF - Centro de Inovação Norberto Frahm - ECPv6.8.2//NONSGML v1.0//EN
CALSCALE:GREGORIAN
METHOD:PUBLISH
X-ORIGINAL-URL:https://cinf.com.br
X-WR-CALDESC:Eventos para CINF - Centro de Inovação Norberto Frahm
REFRESH-INTERVAL;VALUE=DURATION:PT1H
X-Robots-Tag:noindex
X-PUBLISHED-TTL:PT1H
BEGIN:VTIMEZONE
TZID:America/Sao_Paulo
BEGIN:STANDARD
TZOFFSETFROM:-0300
TZOFFSETTO:-0300
TZNAME:-03
DTSTART:20250101T000000
END:STANDARD
END:VTIMEZONE
BEGIN:VEVENT
DTSTART;TZID=America/Sao_Paulo:20251011T090000
DTEND;TZID=America/Sao_Paulo:20251011T130000
DTSTAMP:20260421T211324
CREATED:20251003T012651Z
LAST-MODIFIED:20251003T012651Z
UID:14495-1760173200-1760187600@cinf.com.br
SUMMARY:Feirão do Emprego Rio do Sul - 11/10
DESCRIPTION:O Feirão do Emprego\, previsto para  sábado (04/10)\, foi transferido para 𝟏𝟏/𝟏𝟎/𝟐𝟎𝟐𝟓\, mantendo os mesmos horários. \nUma ótima oportunidade para quem esta buscando novas oportunidades de trabalho e para quem quer divulgar suas vagas! \n🗓 Dia 11 de outubro\n⏰ Das 9h às 13h\n📍 Praça Ermembergo Pellizzetti – Rio do Sul
URL:https://cinf.com.br/evento/feirao-do-emprego-rio-do-sul-11-10/
LOCATION:Praça Ermembergo Pellizzetti\, R. São João - Centro\, Rio do Sul\, 89160000\, Brazil
ATTACH;FMTTYPE=image/jpeg:https://cinf.com.br/wp-content/uploads/2025/10/Feirao-11-10.jpg
END:VEVENT
END:VCALENDAR