BEGIN:VCALENDAR
VERSION:2.0
PRODID:-//CINF - Centro de Inovação Norberto Frahm - ECPv6.8.2//NONSGML v1.0//EN
CALSCALE:GREGORIAN
METHOD:PUBLISH
X-WR-CALNAME:CINF - Centro de Inovação Norberto Frahm
X-ORIGINAL-URL:https://cinf.com.br
X-WR-CALDESC:Eventos para CINF - Centro de Inovação Norberto Frahm
REFRESH-INTERVAL;VALUE=DURATION:PT1H
X-Robots-Tag:noindex
X-PUBLISHED-TTL:PT1H
BEGIN:VTIMEZONE
TZID:America/Sao_Paulo
BEGIN:STANDARD
TZOFFSETFROM:-0300
TZOFFSETTO:-0300
TZNAME:-03
DTSTART:20250101T000000
END:STANDARD
END:VTIMEZONE
BEGIN:VEVENT
DTSTART;VALUE=DATE:20251004
DTEND;VALUE=DATE:20251006
DTSTAMP:20260421T163243
CREATED:20251003T171728Z
LAST-MODIFIED:20251003T171728Z
UID:14500-1759536000-1759708799@cinf.com.br
SUMMARY: Feira do Negócio Local em Pouso Redondo - 04 e 05/10
DESCRIPTION:Feira do Negócio Local está chegando em Pouso Redondo! \n📅 Dias 04 e 05 de Outubro\n📍 Associação dos Motoristas de Pouso Redondo\n🎟 Entrada gratuita \nVai ter exposição\, venda de produtos e serviços\, atrações culturais\, lazer e muita comida boa para toda a família. \n👉 Venha prestigiar os negócios da nossa região e fortalecer quem faz a diferença no dia a dia da comunidade! \nConfira a programação: @viacredialtovale.ailos
URL:https://cinf.com.br/evento/feira-do-negocio-local-em-pouso-redondo-04-e-05-10/
LOCATION:Pouso Redondo
ATTACH;FMTTYPE=image/jpeg:https://cinf.com.br/wp-content/uploads/2025/10/Feira-Pouso.jpg
END:VEVENT
END:VCALENDAR