BEGIN:VCALENDAR
VERSION:2.0
PRODID:-//CINF - Centro de Inovação Norberto Frahm - ECPv6.8.2//NONSGML v1.0//EN
CALSCALE:GREGORIAN
METHOD:PUBLISH
X-ORIGINAL-URL:https://cinf.com.br
X-WR-CALDESC:Eventos para CINF - Centro de Inovação Norberto Frahm
REFRESH-INTERVAL;VALUE=DURATION:PT1H
X-Robots-Tag:noindex
X-PUBLISHED-TTL:PT1H
BEGIN:VTIMEZONE
TZID:America/Sao_Paulo
BEGIN:STANDARD
TZOFFSETFROM:-0300
TZOFFSETTO:-0300
TZNAME:-03
DTSTART:20260101T000000
END:STANDARD
END:VTIMEZONE
BEGIN:VEVENT
DTSTART;TZID=America/Sao_Paulo:20260325T080000
DTEND;TZID=America/Sao_Paulo:20260325T100000
DTSTAMP:20260421T233357
CREATED:20260317T151545Z
LAST-MODIFIED:20260317T151603Z
UID:14962-1774425600-1774432800@cinf.com.br
SUMMARY:Delas Day -“A potência do SER ao SERVIR: Como integrar empreendedorismo e felicidade”-  25/03
DESCRIPTION:🌸 Delas Day – Um encontro para mulheres que empreendem e transformam! \nVocê é nossa convidada para uma manhã de inspiração\, conexão e desenvolvimento no Delas Day\, um evento especial do Sebrae Delas. \n✨ Palestra com Juliana Rodermel\n“A potência do SER ao SERVIR: Como integrar empreendedorismo e felicidade” \nUm momento para refletir sobre propósito\, fortalecer sua jornada empreendedora e trocar experiências com outras mulheres incríveis. \n📅 Data: 25 de março\n⏰ Horário: 8h\n📍 Local: Jardim América Casa de Eventos\n🎁 Sorteio de brindes exclusivos \nLançamento da Jornada do Sebrae Delas 2026. \n💡 Garanta sua participação e faça sua inscrição no link:\n🔗 https://www.pensanoevento.com.br/sitev2/eventos/97888/delas-day-rio-do-sul \nConvide outras mulheres empreendedoras e venha viver essa experiência com a gente! 💜
URL:https://cinf.com.br/evento/delas-day-25-03/
LOCATION:Jardim América Casa de Eventos\, Alameda Bela Aliança\, 578 - Jardim América\, Rio do Sul\, Santa Catarina\, 89160-216\, Brasil
END:VEVENT
END:VCALENDAR