BEGIN:VCALENDAR
VERSION:2.0
PRODID:-//CINF - Centro de Inovação Norberto Frahm - ECPv6.8.2//NONSGML v1.0//EN
CALSCALE:GREGORIAN
METHOD:PUBLISH
X-ORIGINAL-URL:https://cinf.com.br
X-WR-CALDESC:Eventos para CINF - Centro de Inovação Norberto Frahm
REFRESH-INTERVAL;VALUE=DURATION:PT1H
X-Robots-Tag:noindex
X-PUBLISHED-TTL:PT1H
BEGIN:VTIMEZONE
TZID:America/Sao_Paulo
BEGIN:STANDARD
TZOFFSETFROM:-0300
TZOFFSETTO:-0300
TZNAME:-03
DTSTART:20250101T000000
END:STANDARD
END:VTIMEZONE
BEGIN:VEVENT
DTSTART;TZID=America/Sao_Paulo:20251125T190000
DTEND;TZID=America/Sao_Paulo:20251203T210000
DTSTAMP:20260422T185950
CREATED:20251117T120007Z
LAST-MODIFIED:20251117T120007Z
UID:14644-1764097200-1764795600@cinf.com.br
SUMMARY:Palestra - Venda curam tudo com Joel Woie - 25/11 em Presidente Getúlio
DESCRIPTION:🚀 Vem aí o Venda Mais PG!Tema da noite: “Vendas curam tudo!” \nUma palestra inspiradora com Joel Woie\, fundador da Woie Bike Elétrica\, trazendo sua trajetória e insights poderosos sobre vendas\, empreendedorismo e inovação. \n📅 25/11🕒 19h📍 Auditório da Unidavi – Presidente Getúlio \n🎟 Inscrições gratuitas: https://www.sympla.com.br/evento/vendas-curam-tudo/3216875 \nParticipe e potencialize seus resultados!
URL:https://cinf.com.br/evento/palestra-venda-curam-tudo-com-joel-woie-25-11-em-presidente-getulio/
LOCATION:Unidavi – Campus Presidente Getúlio\, Rua Curt Hering\, 3355 Rio Ferro Presidente Getúlio\, SC
ATTACH;FMTTYPE=image/png:https://cinf.com.br/wp-content/uploads/2025/11/Layout-evento-25-11-PG.png
END:VEVENT
END:VCALENDAR