BEGIN:VCALENDAR
VERSION:2.0
PRODID:-//CINF - Centro de Inovação Norberto Frahm - ECPv6.8.2//NONSGML v1.0//EN
CALSCALE:GREGORIAN
METHOD:PUBLISH
X-ORIGINAL-URL:https://cinf.com.br
X-WR-CALDESC:Eventos para CINF - Centro de Inovação Norberto Frahm
REFRESH-INTERVAL;VALUE=DURATION:PT1H
X-Robots-Tag:noindex
X-PUBLISHED-TTL:PT1H
BEGIN:VTIMEZONE
TZID:America/Sao_Paulo
BEGIN:STANDARD
TZOFFSETFROM:-0300
TZOFFSETTO:-0300
TZNAME:-03
DTSTART:20250101T000000
END:STANDARD
END:VTIMEZONE
BEGIN:VEVENT
DTSTART;TZID=America/Sao_Paulo:20251122T140000
DTEND;TZID=America/Sao_Paulo:20251122T170000
DTSTAMP:20260422T153922
CREATED:20251117T142450Z
LAST-MODIFIED:20251117T142931Z
UID:14657-1763820000-1763830800@cinf.com.br
SUMMARY:Evento - Chopp com Histórias - 2025! 22/11- Alto Valley Startups
DESCRIPTION:🍻✨No dia 22 de novembro de 2025\, o Chopp com Histórias chega para unir inspiração\, networking e\, claro\, um bom chopp gelado. 🚀\nEmpresários e empreendedores vão compartilhar suas trajetórias\, desafios e conquistas em um bate-papo descontraído e cheio de aprendizados. Nesta edição será com a empresária Ioná da empresa Magazord. \n📅 Anota aí na sua agenda:\nData: 22 de Novembro de 2025\nHorário: 14:00 às 16:30\nLocal: Nossa Casa de Eventos – Estrada Boa Esperança\, Bairro Fundo Canoas\, nº 374 \nIngressos: https://www.sympla.com.br/evento/chopp-com-historias/3168164?fbclid=PAZXh0bgNhZW0CMTEAc3J0YwZhcHBfaWQMMjU2MjgxMDQwNTU4AAGnPvtUBGxfXBtA_aAflGs5LNcTlBb2kceu0y8pU8TsK3KzbWE1UL-FqcfwuOQ_aem_rumdouH-QKkhbPQXwGXNOg&referrer=l.instagram.com&referrer=l.instagram.com
URL:https://cinf.com.br/evento/evento-chopp-com-historias-2025-22-11-alto-valley-startups/
LOCATION:Nossa Casa de Eventos\, Estrada Boa Esperança\, Bairro Fundo Canoas\, nº 374
ATTACH;FMTTYPE=image/jpeg:https://cinf.com.br/wp-content/uploads/2025/11/22-11-Chopp-com-historias.jpg
END:VEVENT
END:VCALENDAR