BEGIN:VCALENDAR
VERSION:2.0
PRODID:-//CINF - Centro de Inovação Norberto Frahm - ECPv6.8.2//NONSGML v1.0//EN
CALSCALE:GREGORIAN
METHOD:PUBLISH
X-WR-CALNAME:CINF - Centro de Inovação Norberto Frahm
X-ORIGINAL-URL:https://cinf.com.br
X-WR-CALDESC:Eventos para CINF - Centro de Inovação Norberto Frahm
REFRESH-INTERVAL;VALUE=DURATION:PT1H
X-Robots-Tag:noindex
X-PUBLISHED-TTL:PT1H
BEGIN:VTIMEZONE
TZID:America/Sao_Paulo
BEGIN:STANDARD
TZOFFSETFROM:-0300
TZOFFSETTO:-0300
TZNAME:-03
DTSTART:20250101T000000
END:STANDARD
END:VTIMEZONE
BEGIN:VEVENT
DTSTART;TZID=America/Sao_Paulo:20250910T190000
DTEND;TZID=America/Sao_Paulo:20250910T203000
DTSTAMP:20260422T203020
CREATED:20250909T163430Z
LAST-MODIFIED:20250909T163430Z
UID:14388-1757530800-1757536200@cinf.com.br
SUMMARY:Primeiro Papo de Negócio 10/09 - CDL Jovem Presidente Getúlio
DESCRIPTION:Primeiro Papo de Negócio\nData: 10/09\nHorário: 19h\nLocal: Boteco do Gel\nInscrição: https://forms.gle/nTAxwNR7BB7mh2VQ7\nRealização: CDL Jovem Presidente Getúlio
URL:https://cinf.com.br/evento/primeiro-papo-de-negocio-10-09-cdl-jovem-presidente-getulio/
LOCATION:Santa Catarina
ATTACH;FMTTYPE=image/jpeg:https://cinf.com.br/wp-content/uploads/2025/09/Papo-PG.jpg
END:VEVENT
END:VCALENDAR