BEGIN:VCALENDAR
VERSION:2.0
PRODID:-//CINF - Centro de Inovação Norberto Frahm - ECPv6.8.2//NONSGML v1.0//EN
CALSCALE:GREGORIAN
METHOD:PUBLISH
X-ORIGINAL-URL:https://cinf.com.br
X-WR-CALDESC:Eventos para CINF - Centro de Inovação Norberto Frahm
REFRESH-INTERVAL;VALUE=DURATION:PT1H
X-Robots-Tag:noindex
X-PUBLISHED-TTL:PT1H
BEGIN:VTIMEZONE
TZID:America/Sao_Paulo
BEGIN:STANDARD
TZOFFSETFROM:-0300
TZOFFSETTO:-0300
TZNAME:-03
DTSTART:20250101T000000
END:STANDARD
END:VTIMEZONE
BEGIN:VEVENT
DTSTART;TZID=America/Sao_Paulo:20250617T190000
DTEND;TZID=America/Sao_Paulo:20250617T203000
DTSTAMP:20260422T230725
CREATED:20250613T123921Z
LAST-MODIFIED:20250613T124044Z
UID:14029-1750186800-1750192200@cinf.com.br
SUMMARY:Papo de E-commerce - A Estratégia do Sucesso - 17/06 
DESCRIPTION:🛒 Papo de E-commerce\n📍 Rio do Sul – SC\n🗓️ 17 de junho\n⏰ A partir das 18h\n📌 Auditório do CINF \nSe você tem (ou quer ter) um e-commerce\, esse evento é pra você. Uma noite com talks rápidos\, práticos e direto ao ponto sobre branding\, marketplaces\, precificação e o caminho do sucesso! \n👉 Garanta sua vaga SEM CUSTO para convidados do núcleo!\nhttps://www.sympla.com.br/evento/papo-de-e-commerce/2950360?d=CINF
URL:https://cinf.com.br/evento/papo-de-e-commerce-a-estrategia-do-sucesso-17-06/
LOCATION:CINF – Centro de Inovação Norberto Frahm\, Rua Herculano Nunes Teixeira\, 105 - Budag\, Rio do Sul\, Santa Catarina\, 89165-475
ATTACH;FMTTYPE=image/jpeg:https://cinf.com.br/wp-content/uploads/2025/06/Papo-de-E-Commerce.jpeg
END:VEVENT
END:VCALENDAR