BEGIN:VCALENDAR
VERSION:2.0
PRODID:-//CINF - Centro de Inovação Norberto Frahm - ECPv6.8.2//NONSGML v1.0//EN
CALSCALE:GREGORIAN
METHOD:PUBLISH
X-ORIGINAL-URL:https://cinf.com.br
X-WR-CALDESC:Eventos para CINF - Centro de Inovação Norberto Frahm
REFRESH-INTERVAL;VALUE=DURATION:PT1H
X-Robots-Tag:noindex
X-PUBLISHED-TTL:PT1H
BEGIN:VTIMEZONE
TZID:America/Sao_Paulo
BEGIN:STANDARD
TZOFFSETFROM:-0300
TZOFFSETTO:-0300
TZNAME:-03
DTSTART:20250101T000000
END:STANDARD
END:VTIMEZONE
BEGIN:VEVENT
DTSTART;VALUE=DATE:20250421
DTEND;VALUE=DATE:20250424
DTSTAMP:20260423T183837
CREATED:20250417T165317Z
LAST-MODIFIED:20250417T165317Z
UID:13842-1745193600-1745452799@cinf.com.br
SUMMARY:Programação do Dia Mundial da Criatividade - 21\, 22 e 23/04 em Rio do Sul
DESCRIPTION:Várias atividades estão previstas para acontecer no World Creativity Day (Dia Mundial da Criatividade) que acontece dias 21\, 22 e 23/04.\nAqui em Rio do Sul são atividades desde passeio de caiaque\, oficinas\, roda de conversas e palestras.\nBasta acessar o site oficial e selecionar a cidade de Rio do Sul para conferir a programação completa das iniciativas.\nhttps://worldcreativityday.com/en/world/activities
URL:https://cinf.com.br/evento/programacao-do-dia-mundial-da-criatividade-21-22-e-23-04-em-rio-do-sul/
LOCATION:Santa Catarina
ATTACH;FMTTYPE=image/jpeg:https://cinf.com.br/wp-content/uploads/2025/04/WCD-RSL.jpg
END:VEVENT
END:VCALENDAR