BEGIN:VCALENDAR
VERSION:2.0
PRODID:-//CINF - Centro de Inovação Norberto Frahm - ECPv6.8.2//NONSGML v1.0//EN
CALSCALE:GREGORIAN
METHOD:PUBLISH
X-WR-CALNAME:CINF - Centro de Inovação Norberto Frahm
X-ORIGINAL-URL:https://cinf.com.br
X-WR-CALDESC:Eventos para CINF - Centro de Inovação Norberto Frahm
REFRESH-INTERVAL;VALUE=DURATION:PT1H
X-Robots-Tag:noindex
X-PUBLISHED-TTL:PT1H
BEGIN:VTIMEZONE
TZID:America/Sao_Paulo
BEGIN:STANDARD
TZOFFSETFROM:-0300
TZOFFSETTO:-0300
TZNAME:-03
DTSTART:20240101T000000
END:STANDARD
END:VTIMEZONE
BEGIN:VEVENT
DTSTART;TZID=America/Sao_Paulo:20241030T130000
DTEND;TZID=America/Sao_Paulo:20241030T190000
DTSTAMP:20260424T061317
CREATED:20240930T124832Z
LAST-MODIFIED:20240930T124846Z
UID:12860-1730293200-1730314800@cinf.com.br
SUMMARY:Safety Talks 2024 | Núcleo de Segurança no Trabalho Acirs - 30/10
DESCRIPTION:Safety Talks 2024 – Um evento organizado pelo Núcleo de Segurança no Trabalho da ACIRS.\n\n\nData: 30 de outubro de 2024\nHorário: 13h às 18h\nLocal: Blend Casa de Eventos \nPrepare-se para o Safety Talks 2024\, um evento voltado para empresários e profissionais interessados em aprimorar práticas de acidente de trabalho e questões previdenciárias. Com palestras de especialistas renomados\, o evento oferece uma imersão em temas como insalubridade\, aposentadoria especial\, acidente de trabalho e gestão de segurança nas organizações. \nProgramação: \n\n13h00 – 13h30: Recepção e credenciamento\n14h00: Como interpretar e enquadrar os agentes químicos para insalubridade de aposentadoria especial\nPalestrante: Fernando Nascimento\n14h40: Aposentadoria especial\nPalestrante: Andréia Hertel\n15h20: Coffee Break\n15h40: Acidente de trabalho e dicas sobre aposentadorias\nPalestrante: Lara Regina Gastaldi Forschner\n17h00: Insalubridade de forma estratégica para gerar transparência nas organizações\nPalestrante: Felipe Rodolfo Fugazza\n17h20: A emoção de lidar com pessoas\nPalestrante: Ivan Gonçalves\n17h40: Encerramento e agradecimentos\n\nIngressos: \n\n1º lote até 07/10:\n\nNucleados ACIRS + colaboradores: R$ 75\nPúblico externo: R$ 99\n\n\nNucleados podem adquirir pelo sistema de mensalidade\, entrando em contato com 47 8801-5141 com a Daniela Sommerfeld .\nInscrições abertas até 25/10/2024.\n\nParticipe do Safety Talks 2024 e amplie seus conhecimentos em saúde\, segurança e previdência\, contribuindo para uma gestão mais transparente e eficiente nas empresas. \nIngressos: https://eventos.acirs.com.br/evento/safety-talks-2024-nucleo-de-seguranca-no-trabalho-1 \nRealização: @nucleoseg – Acirs
URL:https://cinf.com.br/evento/safety-talks-2024-nucleo-de-seguranca-no-trabalho-acirs-30-10/
LOCATION:Blend Casa de Eventos\, R. João Ledra - Taboão\, Rio do Sul - SC\, 89160-470
ATTACH;FMTTYPE=image/png:https://cinf.com.br/wp-content/uploads/2024/09/Safety.png
END:VEVENT
END:VCALENDAR