BEGIN:VCALENDAR
VERSION:2.0
PRODID:-//CINF - Centro de Inovação Norberto Frahm - ECPv6.8.2//NONSGML v1.0//EN
CALSCALE:GREGORIAN
METHOD:PUBLISH
X-ORIGINAL-URL:https://cinf.com.br
X-WR-CALDESC:Eventos para CINF - Centro de Inovação Norberto Frahm
REFRESH-INTERVAL;VALUE=DURATION:PT1H
X-Robots-Tag:noindex
X-PUBLISHED-TTL:PT1H
BEGIN:VTIMEZONE
TZID:America/Sao_Paulo
BEGIN:STANDARD
TZOFFSETFROM:-0300
TZOFFSETTO:-0300
TZNAME:-03
DTSTART:20240101T000000
END:STANDARD
END:VTIMEZONE
BEGIN:VEVENT
DTSTART;TZID=America/Sao_Paulo:20241017T143000
DTEND;TZID=America/Sao_Paulo:20241017T193000
DTSTAMP:20260424T104956
CREATED:20241007T160757Z
LAST-MODIFIED:20241007T160757Z
UID:12904-1729175400-1729193400@cinf.com.br
SUMMARY:2° Edição Conexão Contábil Alto Vale Sindicont Alto Vale do Itajaí - 17/10
DESCRIPTION:2° Edição Conexão Contábil Alto Vale Sindicont Alto Vale do Itajaí \nData: 17 Outubro\nHorário: 14h30min e 19h30min\nLocal: Casa Jardim América – Rio do Sul. \nEvento a tarde com workshops de renome nacional falando sobre melhoria de processos\, clima organizacional e transformação digital dos escritórios. A noite\, as 19h30min\, paleatra com foxo na área comercial com Tiago Miranda\, da Escalar Contábil seguido de jantar. Evento aberto ao público em geral. \nGaranta sua inscrição em: https://www.conferencebr.com/registration/510/BR/
URL:https://cinf.com.br/evento/2-edicao-conexao-contabil-alto-vale-sindicont-alto-vale-do-itajai-17-10/
LOCATION:Jardim América Casa de Eventos\, Alameda Bela Aliança\, 578 - Jardim América\, Rio do Sul\, Santa Catarina\, 89160-216\, Brasil
ATTACH;FMTTYPE=image/jpeg:https://cinf.com.br/wp-content/uploads/2024/10/Evento-Sindicont.jpg
END:VEVENT
END:VCALENDAR