BEGIN:VCALENDAR
VERSION:2.0
PRODID:-//CINF - Centro de Inovação Norberto Frahm - ECPv6.8.2//NONSGML v1.0//EN
CALSCALE:GREGORIAN
METHOD:PUBLISH
X-WR-CALNAME:CINF - Centro de Inovação Norberto Frahm
X-ORIGINAL-URL:https://cinf.com.br
X-WR-CALDESC:Eventos para CINF - Centro de Inovação Norberto Frahm
REFRESH-INTERVAL;VALUE=DURATION:PT1H
X-Robots-Tag:noindex
X-PUBLISHED-TTL:PT1H
BEGIN:VTIMEZONE
TZID:America/Sao_Paulo
BEGIN:STANDARD
TZOFFSETFROM:-0300
TZOFFSETTO:-0300
TZNAME:-03
DTSTART:20250101T000000
END:STANDARD
END:VTIMEZONE
BEGIN:VEVENT
DTSTART;VALUE=DATE:20251006
DTEND;VALUE=DATE:20251012
DTSTAMP:20260422T135927
CREATED:20250919T170614Z
LAST-MODIFIED:20250919T170614Z
UID:14449-1759708800-1760227199@cinf.com.br
SUMMARY:Feira do Livro de Rio do Sul 2025 - 06 a 11/10
DESCRIPTION:Feira do Livro de Rio do Sul 2025: seis dias de cultura\, arte e imaginação \nDe 6 a 11 de outubro\, a Feira do Livro de Rio do Sul 2025 transforma a cidade em um grande encontro literário\, reunindo sonhos\, conhecimento e imaginação para todas as idades. \nSerão mais de 100 atividades gratuitas\, incluindo teatro\, música\, contação de histórias\, palestras\, oficinas e exposições\, criando um espaço para viajar além do cotidiano por meio dos livros. \nProfessores e diretores de escolas podem realizar agendamentos a partir do dia 22/09 pelo telefone (47) 3521-7702\, em horários específicos para facilitar a organização. \nA programação completa está disponível no site: feiradolivrorsl.com/programacao \nO evento conta com o apoio de diversas instituições locais\, entre elas a Associação Brejeiros da Madrugada\, Câmara de Vereadores\, Instituto Federal Catarinense – Campus Rio do Sul\, Sesc e Viacredi Alto Vale\, além do patrocínio do Centro Universitário Unidavi. A realização é da Associação dos Pais\, Professores e Amigos da Fundação Cultural (Asfuc)\, Biblioteca Pública Municipal Nereu Ramos\, Fundação Cultural e Prefeitura de Rio do Sul.
URL:https://cinf.com.br/evento/feira-do-livro-de-rio-do-sul-2025-06-a-11-10/
LOCATION:Santa Catarina
ATTACH;FMTTYPE=image/jpeg:https://cinf.com.br/wp-content/uploads/2025/09/Feira-do-Livro.jpg
END:VEVENT
BEGIN:VEVENT
DTSTART;TZID=America/Sao_Paulo:20251009T190000
DTEND;TZID=America/Sao_Paulo:20251009T223000
DTSTAMP:20260422T135927
CREATED:20250918T165517Z
LAST-MODIFIED:20251003T010454Z
UID:14430-1760036400-1760049000@cinf.com.br
SUMMARY:🍺 InovaChopp – 10ª Edição - 09/10 - Núcleo de Inovação Acirs
DESCRIPTION:🍺 InovaChopp – 10ª Edição \n10 anos conectando inovação\, pessoas e chopp! \nPrepare-se para uma noite completa com palestras inspiradoras\, conteúdo relevante\, conexão entre pessoas e negócios – com open chopp (pilsen e vinho)\, comidas de boteco (salgadinhos e mini burguers)\, refri e água. \nTalk: Cultura de inovação com:\n✨ Milton Jonathas Hobus – à frente de uma das maiores indústrias de componentes para bicicletas do Brasil\, lidera a transformação dos negócios no Alto Vale com visão estratégica e impacto real.\n✨ Alan Conti – CEO da Effecti\, especialista em tecnologia e gestão\, impulsiona a transformação digital no mercado de licitações e compartilha conhecimento como mentor e host do ContiCast.\n✨ Rodrigo Lóssio – CEO da Dialetto e coautor da série Ponte para a Inovação\, referência em comunicação e fortalecimento de ecossistemas de inovação no Brasil e no mundo. \nE para fechar com chave de ouro: música ao vivo no final do evento! 🎶 \n📅 Data: 09 de outubro\, às 19h até 22h\n📍 Local: Espaço Konquista (antiga Holzweg) – R. Paulo Alves do Nascimento\, 409 – Centro\, Lontras/SCh \n💲 Ingressos:\n1º lote: R$ 65\,00 (até 22/09)\n2º lote : R$ 75\,00 (21/09 a 04/10)\n3º lote: R$ 90\,00 (05/10 até o dia do evento) \nLink de compra de ingresso: https://eventos.acirs.com.br/evento/inovachopp-10a-edicao\nOu pulseiras com os nucleados. \nGaranta seu ingresso e participe dessa experiência de inovação.
URL:https://cinf.com.br/evento/%f0%9f%8d%ba-inovachopp-10a-edicao-09-10-nucleo-de-inovacao-acirs/
LOCATION:Santa Catarina
ATTACH;FMTTYPE=image/jpeg:https://cinf.com.br/wp-content/uploads/2025/09/09-10-inovachopp.jpg
END:VEVENT
BEGIN:VEVENT
DTSTART;TZID=America/Sao_Paulo:20251009T193000
DTEND;TZID=America/Sao_Paulo:20251009T203000
DTSTAMP:20260422T135927
CREATED:20250910T123707Z
LAST-MODIFIED:20250910T123730Z
UID:14398-1760038200-1760041800@cinf.com.br
SUMMARY:Inspira ACIAT- Com Cesar Cielo - 09/10 em Taió
DESCRIPTION:🏅 Campeão olímpico em Taió! Vem aí o nosso super evento! Inspira ACIAT\, histórias que transformam com Cesar Cielo 🏅🚀 \n🎟 Garanta já o seu ingresso!\n✅ Associados: entrem em contato com a ACIAT para garantir seu ingresso com valor especial 🎟\n➡️ Não associados: Garantam seu ingresso clicando no link da bio 🎟 \nVAGAS LIMITADAS ⚠️ \nO maior nadador da história do Brasil\, campeão olímpico e recordista mundial\, vem até nossa cidade para compartilhar uma palestra inspiradora sobre força\, superação e mentalidade de campeão. 🌊🔥 \n📅 Data: 09 de outubro\nHorário: 19h30\n📍 Local: Clube de Caça e Tiro de Taió \nNão perca a oportunidade única de ouvir de perto as histórias e lições de quem conquistou o topo do mundo. 🏅 \n🚀 Inspira ACIAT\, histórias que transformam!
URL:https://cinf.com.br/evento/inspira-aciat-com-cesar-cielo-09-10-em-taio/
LOCATION:Santa Catarina
ATTACH;FMTTYPE=image/jpeg:https://cinf.com.br/wp-content/uploads/2025/09/Evento-Taio.jpg
END:VEVENT
BEGIN:VEVENT
DTSTART;TZID=America/Sao_Paulo:20251015T150000
DTEND;TZID=America/Sao_Paulo:20251015T170000
DTSTAMP:20260422T135927
CREATED:20251013T125448Z
LAST-MODIFIED:20251013T125448Z
UID:14541-1760540400-1760547600@cinf.com.br
SUMMARY:Workshop SC Mais Inovação chega à microrregião da AMAVI - 17/10
DESCRIPTION:Workshop SC Mais Inovação chega à microrregião da AMAVI nesta sexta-feira (17) em Rio do Sul \nNa próxima sexta-feira\, 17 de outubro\, a microrregião da AMAVI (Associação dos Municípios do Alto Vale do Itajaí) recebe o Workshop Presencial SC Mais Inovação\, um encontro voltado à transformação dos municípios catarinenses em cidades do futuro. O evento acontece das 15h às 17h\, no Auditório da AMAVI\, em Rio do Sul (Rua XV de Novembro\, nº 737 – Centro). \nPromovido pela Secretaria de Estado da Ciência\, Tecnologia e Inovação (SCTI)\, em parceria com BRDE\, Badesc\, Fapesc\, Acafe\, UNESC e a rede de Polos Regionais ACATE\, o workshop tem como foco apresentar e discutir três pilares estratégicos para o desenvolvimento regional: DemandaSC\, Marco Legal de Inovação e Oportunidades de Fomento. \nA proposta é aproximar o poder público\, a academia e o setor produtivo\, promovendo conexões práticas e colaborativas que impulsionem o ecossistema catarinense de inovação. A iniciativa também busca fortalecer os ambientes locais de inovação\, fomentando políticas e ações capazes de gerar impacto econômico e social sustentável. \nO evento faz parte da agenda do programa SC Mais Inovação\, que está percorrendo todas as regiões do estado com o propósito de estimular a cultura inovadora e apoiar projetos estruturantes nos municípios catarinenses. \nSegundo a organização\, a expectativa é reunir os gestores municipais e lideranças do ecossistema de inovação\, reforçando o compromisso de Santa Catarina em tornar-se referência nacional em desenvolvimento inovador e sustentável. \nServiço:\n📅 Data: 17 de outubro (sexta-feira)\n🕒 Horário: das 15h às 17h\n📍 Local: Auditório da AMAVI – Rua XV de Novembro\, nº 737\, Centro\, Rio do Sul\n📚 Tema: Transformando os municípios catarinenses em cidades do futuro – DemandaSC\, Marco Legal e Oportunidades de Fomento
URL:https://cinf.com.br/evento/workshop-sc-mais-inovacao-chega-a-microrregiao-da-amavi-17-10/
LOCATION:Amavi – Associação dos Municípios do Alto Vale do Itajaí\, R. XV de Novembro\, nº 737 - Centro\, Rio do Sul\, SC\, 89160-015
ATTACH;FMTTYPE=image/jpeg:https://cinf.com.br/wp-content/uploads/2025/10/17-10.jpg
END:VEVENT
BEGIN:VEVENT
DTSTART;VALUE=DATE:20251016
DTEND;VALUE=DATE:20251017
DTSTAMP:20260422T135927
CREATED:20250717T163015Z
LAST-MODIFIED:20251013T014457Z
UID:14146-1760572800-1760659199@cinf.com.br
SUMMARY:TechValley - 16/10 - CINF
DESCRIPTION:TechValley – 16/10 – CINF \nInovação\, tendências e tecnologias que transformam os negócios e territórios. \nO objetivo do evento é promover\, discutir e explorar as tendências tecnológicas e seus impactos em diferentes setores\, democratizando o acesso ao conhecimento e impulsionando a inovação no Alto Vale do Itajaí\, por meio da conexão entre profissionais\, empresas e entusiastas da tecnologia\, ampliando o potencial dessas iniciativas ao oferecer uma estrutura conectada por meio de atores estratégicos fomentando a cooperação internacional. \nO QUE VOCÊ VAI ENCONTRAR: \n\n\n\nPalestras estratégicas com Palestrantes Nacionais e Internacionais;\nApresentação de soluções;\nEncontro de Ecossistemas;\n\nIngresso Standard – Acesso ao evento.\nIngresso Executive – Acesso ao evento + Assentos exclusivos no evento + Jantar Conexão na Osteria. \n\n\nLink de ingressos: https://www.sympla.com.br/evento/tech-valley-rio-do-sul-sc/3064672 \n🎤 Programação e destaques:\n10h – Juan Paredes Romero (Paraguai): Emprendimiento e Innovación: Construyendo Ecosistemas para el Desarrollo Nacional\n11h – Pedro Ceron (Heero Futures): Futuros: entre sinais\, tendências\, escolhas e o mundo que queremos criar\n14h – Adriana Molano Rojas (Colômbia): Desenhando o Amanhã: tendências e tecnologias que redefinem sociedades\, cidades e negócios\n15h – Yuri Lázaro de Oliveira-Cunha (ESPM – SP): IAnovação: Reimaginando Modelos de Negócios para o Futuro\n16h – Mesa de Negócios: Networking\, oportunidades estratégicas e debate sobre transformação digital e novos modelos de negócios.\n✨ Encerramento oficial das palestras e conteúdos às 17h \n🤖Ao longo do dia\, o público poderá vivenciar experiências tecnológicas interativas\, com demonstrações de drones\, robôs e até um cachorro humanoide\, além de mergulhar conteúdos  incríveis e oportunidades de inovação e negócios. \n19h – Jantar exclusivo na Osteria com palestrantes e pessoas estratégicas. \n🎟 Ingressos standard e executive: bit.ly/Cinf-techvalley
URL:https://cinf.com.br/evento/techvalley-16-10-cinf/
LOCATION:CINF – Centro de Inovação Norberto Frahm\, Rua Herculano Nunes Teixeira\, 105 - Budag\, Rio do Sul\, Santa Catarina\, 89165-475
ATTACH;FMTTYPE=image/jpeg:https://cinf.com.br/wp-content/uploads/2025/07/techvalley-cinf.jpg
END:VEVENT
BEGIN:VEVENT
DTSTART;TZID=America/Sao_Paulo:20251016T170000
DTEND;TZID=America/Sao_Paulo:20251016T230000
DTSTAMP:20260422T135927
CREATED:20251021T175129Z
LAST-MODIFIED:20251021T175129Z
UID:14561-1760634000-1760655600@cinf.com.br
SUMMARY:Silicon Drink About  - SDA da Comunidade Alto Valley Startups - 16/10
DESCRIPTION:Pra agregar ainda mais valor no nosso SDA\, somos agora o happy hour oficial do TECH VALLEY!!! E pra receber essa galera\, gerar mais conexões e bons papos antecipamos o inicio do SDA para as 17h\, porém o evento continua até as 23h!! \nChegue cedo e garanta o chopp geladinho e muitas conexões novas! \n👉 Ingressos gratuitos limitados\n👉 Free Choppe\n📍Hall do CINF\n📆 16 de outubro a partir das 17h \nRealização: Comunidade Alto Valley Startups\nLink de inscrição https://www.sympla.com.br/evento/silicon-drinkabout-rio-do-sul/3161742
URL:https://cinf.com.br/evento/silicon-drink-about-sda-da-comunidade-alto-valley-startups-16-10/
LOCATION:CINF – Centro de Inovação Norberto Frahm\, Rua Herculano Nunes Teixeira\, 105 - Budag\, Rio do Sul\, Santa Catarina\, 89165-475
ATTACH;FMTTYPE=image/jpeg:https://cinf.com.br/wp-content/uploads/2025/10/SDA-TECHVALLEY-16.10.jpg
END:VEVENT
BEGIN:VEVENT
DTSTART;VALUE=DATE:20251020
DTEND;VALUE=DATE:20251025
DTSTAMP:20260422T135927
CREATED:20251006T173901Z
LAST-MODIFIED:20251006T173901Z
UID:14504-1760918400-1761350399@cinf.com.br
SUMMARY:🚀 Vem aí o 4C – Congresso Catarinense de Ciência da Computação! 20 A 24/10
DESCRIPTION:🚀 Vem aí o 4C – Congresso Catarinense de Ciência da Computação! \nDe 20 a 24 de outubro\, no IFC – Campus Rio do Sul\, você vai viver uma semana cheia de palestras\, workshops e conexões incríveis no universo da tecnologia e inovação. 💻✨ \n📅 20 a 24 de outubro\n📍 IFC – Rio do Sul\nInscrição e Programação: https://centraldeeventos.ifc.edu.br/congresso-catarinense-de-ciencia-da-computacao-4c-621439/
URL:https://cinf.com.br/evento/%f0%9f%9a%80-vem-ai-o-4c-congresso-catarinense-de-ciencia-da-computacao-20-a-24-10/
LOCATION:IFC – Unidade Tecnológica\, R. Mafalda L. Porto\, Rio do Sul\, SC\, 8160000\, Brasil
ATTACH;FMTTYPE=image/jpeg:https://cinf.com.br/wp-content/uploads/2025/10/4C-IFC-2025.jpg
END:VEVENT
BEGIN:VEVENT
DTSTART;TZID=America/Sao_Paulo:20251023T073000
DTEND;TZID=America/Sao_Paulo:20251023T090000
DTSTAMP:20260422T135927
CREATED:20251017T230605Z
LAST-MODIFIED:20251017T230605Z
UID:14555-1761204600-1761210000@cinf.com.br
SUMMARY:Reunião do Núcleo de Inovação Acirs - 23/10 💡 Conheça o NI
DESCRIPTION:📣 23/10 – Reunião do Núcleo de Inovação💡 \nNa próxima semana temos reunião do núcleo e com o convite para estarem conosco. \n🗓 Data: 23 de outubro (quinta-feira)\n🕢 Horário: 7h30 da manhã\n📍 Local: CINF – Prédio Novo – Bloco C \nPauta:\n– Entrada de novos nucleados\n– Criação do nosso Regimento NI – A Márcia Facisc estará conosco.\n– Ações do NI deste final de 2º semestre/2025. \nConfirme sua presença no contato WhatsApp Acirs (47) 3531-0500 ✅
URL:https://cinf.com.br/evento/reuniao-do-nucleo-de-inovacao-acirs-23-10-%f0%9f%92%a1-conheca-o-ni/
LOCATION:CINF – Centro de Inovação Norberto Frahm\, Rua Herculano Nunes Teixeira\, 105 - Budag\, Rio do Sul\, Santa Catarina\, 89165-475
ATTACH;FMTTYPE=image/jpeg:https://cinf.com.br/wp-content/uploads/2025/10/Inovacao-23-10.jpg
END:VEVENT
BEGIN:VEVENT
DTSTART;TZID=America/Sao_Paulo:20251023T190000
DTEND;TZID=America/Sao_Paulo:20251023T200000
DTSTAMP:20260422T135927
CREATED:20251007T120142Z
LAST-MODIFIED:20251010T135608Z
UID:14511-1761246000-1761249600@cinf.com.br
SUMMARY:Palestra - Faça a Inteligência Artificial trabalhar para o seu negócio - 23/10 - Casa do Empreendedor
DESCRIPTION:🚀 A Inteligência Artificial já está transformando o mercado… e a questão é: você vai assistir ou participar dessa revolução? \nNo dia 23/10/2025\, às 19h\, acontece uma palestra on-line com Marcos Daniel\, mostrando como pequenas e médias empresas podem usar a IA de forma simples e acessível para ganhar produtividade\, atrair clientes e inovar nos negócios. \nCom exemplos reais e ferramentas gratuitas\, você vai sair com insights práticos e um passo a passo para começar a aplicar IA já no dia seguinte. \n⚠️ As vagas são limitadas!\nInscreva-se no link: https://forms.gle/mZPTCDFrQgWR37HZ9
URL:https://cinf.com.br/evento/palestra-faca-a-inteligencia-artificial-trabalhar-para-o-seu-negocio-23-10-casa-do-empreendedor/
LOCATION:CINF – Centro de Inovação Norberto Frahm\, Rua Herculano Nunes Teixeira\, 105 - Budag\, Rio do Sul\, Santa Catarina\, 89165-475
ATTACH;FMTTYPE=image/jpeg:https://cinf.com.br/wp-content/uploads/2025/10/23-10-ia.jpg
END:VEVENT
BEGIN:VEVENT
DTSTART;VALUE=DATE:20251024
DTEND;VALUE=DATE:20251101
DTSTAMP:20260422T135927
CREATED:20251010T143704Z
LAST-MODIFIED:20251010T143704Z
UID:14516-1761264000-1761955199@cinf.com.br
SUMMARY:🚀 Trilha de Gestão 2025 – 24 a 31/10 - NIAVI e Sebrae
DESCRIPTION:🚀 Trilha de Gestão 2025 – Inscrições Abertas!\nNos dias 24 e 31 de outubro\, o NIAVI\, em parceria com o SEBRAE\, realiza a Trilha de Gestão 2025: uma jornada prática voltada para empresários\, gestores e líderes que buscam melhorar resultados com estratégias modernas e aplicáveis.\n📍 Local: Unidavi – Rio do Sul\n🎯 Público-alvo: Líderes em busca de crescimento sustentável\nSerão 4 workshops presenciais\, com especialistas reconhecidos\, abordando os pilares da gestão empresarial: \n📌 Programação\n🗓 24 de Outubro:\n🟢 8h às 12h – Pessoas: Cultura\, liderança e retenção – Grando Consultoria\n🟢 13h30 às 17h30 – Vendas: Crescimento com previsibilidade – Leonardo Sommariva\n🗓 31 de Outubro:\n🟢 8h às 12h – Sucesso do Cliente: Atendimento humanizado e fidelização – Daniel Keller\n🟢 13h30 às 17h30 – Processos + IA: Automação inteligente – Marcelo Busana \n✅ Conteúdo prático e aplicável\n✅ Networking com líderes e especialistas\n✅ Transforme sua gestão com inovação e estratégia\n👉 Garanta sua vaga: https://eventos.acirs.com.br/evento/trilha-de-gestao-2025-workshop-pratico-para-lideres-e-empresas-de-tecnologia-1
URL:https://cinf.com.br/evento/%f0%9f%9a%80-trilha-de-gestao-2025-24-a-31-10-niavi-e-sebrae/
LOCATION:Santa Catarina
ATTACH;FMTTYPE=image/jpeg:https://cinf.com.br/wp-content/uploads/2025/10/Trilha-de-Gestao-ACATE.jpg
END:VEVENT
END:VCALENDAR