BEGIN:VCALENDAR
VERSION:2.0
PRODID:-//CINF - Centro de Inovação Norberto Frahm - ECPv6.8.2//NONSGML v1.0//EN
CALSCALE:GREGORIAN
METHOD:PUBLISH
X-ORIGINAL-URL:https://cinf.com.br
X-WR-CALDESC:Eventos para CINF - Centro de Inovação Norberto Frahm
REFRESH-INTERVAL;VALUE=DURATION:PT1H
X-Robots-Tag:noindex
X-PUBLISHED-TTL:PT1H
BEGIN:VTIMEZONE
TZID:America/Sao_Paulo
BEGIN:STANDARD
TZOFFSETFROM:-0300
TZOFFSETTO:-0300
TZNAME:-03
DTSTART:20250101T000000
END:STANDARD
END:VTIMEZONE
BEGIN:VEVENT
DTSTART;VALUE=DATE:20250922
DTEND;VALUE=DATE:20250927
DTSTAMP:20260422T192521
CREATED:20250811T143008Z
LAST-MODIFIED:20250811T143201Z
UID:14255-1758499200-1758931199@cinf.com.br
SUMMARY:Empretec Rio do Sul - 22/09 a 26/09 - Acirs e Sebrae
DESCRIPTION:Empretec em Rio do Sul | 22 a 26 de setembro\nPrepare-se para o extraordinário com o método da ONU\, exclusivo no Brasil pelo Sebrae.\nDesenvolva habilidades que transformam negócios e vidas!\n📈 61% aumentaram os lucros\n📍 Vagas limitadas!\n👉 Inscreva-se agora! Aberto a todos os interessados (não só associados). \nContato Acirs – 4735310503 – WhastApp Acirs Comercial\nRealização: Sebrae Rio do Sul/Alto Vale e Acirs – Associação Empresarial de Rio do Sul.
URL:https://cinf.com.br/evento/empretec-rio-do-sul-22-09-a-26-09-acirs-e-sebrae/
ATTACH;FMTTYPE=image/jpeg:https://cinf.com.br/wp-content/uploads/2025/08/🚀-Empretec-em-Rio-do-Sul-22-a-26-de-setembro.jpg
END:VEVENT
END:VCALENDAR