BEGIN:VCALENDAR
VERSION:2.0
PRODID:-//CINF - Centro de Inovação Norberto Frahm - ECPv6.8.2//NONSGML v1.0//EN
CALSCALE:GREGORIAN
METHOD:PUBLISH
X-ORIGINAL-URL:https://cinf.com.br
X-WR-CALDESC:Eventos para CINF - Centro de Inovação Norberto Frahm
REFRESH-INTERVAL;VALUE=DURATION:PT1H
X-Robots-Tag:noindex
X-PUBLISHED-TTL:PT1H
BEGIN:VTIMEZONE
TZID:America/Sao_Paulo
BEGIN:STANDARD
TZOFFSETFROM:-0300
TZOFFSETTO:-0300
TZNAME:-03
DTSTART:20240101T000000
END:STANDARD
END:VTIMEZONE
BEGIN:VEVENT
DTSTART;TZID=America/Sao_Paulo:20240704T183000
DTEND;TZID=America/Sao_Paulo:20240704T203000
DTSTAMP:20260423T212035
CREATED:20240625T114117Z
LAST-MODIFIED:20240625T114117Z
UID:12229-1720117800-1720125000@cinf.com.br
SUMMARY:Encontro Ecossistema Local de Inovação Rio do Sul - 04/07
DESCRIPTION:Participe da Entrega do Planejamento do Ecossistema de Rio do Sul🚀📍 \nNo dia 04/07 às 18h30\, no Centro de Inovação Norberto Frahm (CINF)\, vamos nos reunir para um importante momento para o Ecossistema de Inovação de Rio do Sul\, onde será entregue o Planejamento do ecossistema por meio do ELI (Ecossistema Local de Inovação). Ação que está sendo realizada a cerca de 3 meses no município. \n📅 Programação: \n18h30: Recepção – Conexão e Coffee ☕\n19h: Entrega do Planejamento do Ecossistema de Inovação de Rio do Sul 📊\nAlém disso\, teremos a palestra inspiradora:\n🔹 “Uma ponte para a inovação – o futuro é todos juntos” com Daniel Leipnitz. \nNão perca essa oportunidade de se conectar\, compartilhar ideias e fortalecer nosso ecossistema de inovação. 🌟 \n📍 Data: 04 de julho\n🕕 Hora: 18h30\n📍 Local: CINF – Centro de Inovação Norberto Frahm \n📌 Inscrições gratuitas pelo formulário: bit.ly/EncontroEcossistema04-07 \nVenha fazer parte desse movimento inovador! 🚀
URL:https://cinf.com.br/evento/encontro-ecossistema-local-de-inovacao-rio-do-sul-04-07/
LOCATION:CINF – Centro de Inovação Norberto Frahm\, Rua Herculano Nunes Teixeira\, 105 - Budag\, Rio do Sul\, Santa Catarina\, 89165-475
ATTACH;FMTTYPE=image/jpeg:https://cinf.com.br/wp-content/uploads/2024/06/ELI-04.07.jpg
END:VEVENT
END:VCALENDAR