BEGIN:VCALENDAR
VERSION:2.0
PRODID:-//CINF - Centro de Inovação Norberto Frahm - ECPv6.8.2//NONSGML v1.0//EN
CALSCALE:GREGORIAN
METHOD:PUBLISH
X-WR-CALNAME:CINF - Centro de Inovação Norberto Frahm
X-ORIGINAL-URL:https://cinf.com.br
X-WR-CALDESC:Eventos para CINF - Centro de Inovação Norberto Frahm
REFRESH-INTERVAL;VALUE=DURATION:PT1H
X-Robots-Tag:noindex
X-PUBLISHED-TTL:PT1H
BEGIN:VTIMEZONE
TZID:America/Sao_Paulo
BEGIN:STANDARD
TZOFFSETFROM:-0300
TZOFFSETTO:-0300
TZNAME:-03
DTSTART:20240101T000000
END:STANDARD
END:VTIMEZONE
BEGIN:VEVENT
DTSTART;TZID=America/Sao_Paulo:20240921T100000
DTEND;TZID=America/Sao_Paulo:20240921T113000
DTSTAMP:20260425T072712
CREATED:20240919T142119Z
LAST-MODIFIED:20240919T142232Z
UID:12830-1726912800-1726918200@cinf.com.br
SUMMARY:#01 Reunião Aberta de Comunidade - 21/09
DESCRIPTION:Sejam bem-vindos(a) à sua comunidade. A nossa primeira reunião aberta vem aí\, com o intuito de conectar os líderes de comunidades\, atores\, empresas e claro\, os empreendedores. \nNesse sábado (21/09) às 10h na Plurall Cooworking\, em Rio do Sul – SC. \nEstará em pauta: \n•⁠ ⁠Eventos\n•⁠ ⁠⁠SW Ibirama\n•⁠ ⁠⁠Atores e ações\n•⁠ ⁠⁠Onboarding da comunidade\n•⁠ ⁠⁠E muito mais! \nConfirme sua presença no link: https://forms.gle/7c4uuocyimGQnJkA7
URL:https://cinf.com.br/evento/01-reuniao-aberta-de-comunidade-21-09/
LOCATION:Plurall Coworking Rio do Sul\, R. XV de Novembro\, 45 Galeria XV - Centro\, Rio do Sul\, SC\, 89160-033
ATTACH;FMTTYPE=image/jpeg:https://cinf.com.br/wp-content/uploads/2024/09/21.09-Reuniao-de-Comunidade.jpg
END:VEVENT
END:VCALENDAR