BEGIN:VCALENDAR
VERSION:2.0
PRODID:-//CINF - Centro de Inovação Norberto Frahm - ECPv6.8.2//NONSGML v1.0//EN
CALSCALE:GREGORIAN
METHOD:PUBLISH
X-ORIGINAL-URL:https://cinf.com.br
X-WR-CALDESC:Eventos para CINF - Centro de Inovação Norberto Frahm
REFRESH-INTERVAL;VALUE=DURATION:PT1H
X-Robots-Tag:noindex
X-PUBLISHED-TTL:PT1H
BEGIN:VTIMEZONE
TZID:America/Sao_Paulo
BEGIN:STANDARD
TZOFFSETFROM:-0300
TZOFFSETTO:-0300
TZNAME:-03
DTSTART:20250101T000000
END:STANDARD
END:VTIMEZONE
BEGIN:VEVENT
DTSTART;TZID=America/Sao_Paulo:20251027T183000
DTEND;TZID=America/Sao_Paulo:20251027T200000
DTSTAMP:20260421T130029
CREATED:20251027T161626Z
LAST-MODIFIED:20251027T161626Z
UID:14585-1761589800-1761595200@cinf.com.br
SUMMARY:Pitch Final Regional do Programa Nascer - Rio do Sul - 27/10 - Presencial e Online 18h30
DESCRIPTION:🎤 Chegou a hora do grande Pitch Final Regional do Programa Nascer! \nDepois de meses de mentorias\, aprendizados e muita dedicação\, os empreendedores do Programa Nascer\, Edição Regional de Rio do Sul e Alto Vale\, vão subir ao palco para apresentar suas ideias e soluções inovadoras. \n📅 Data: 27 de outubro de 2025\n🕡 Horário: 18h30\n📍 Local: Auditório do NPJ – UNIDAVI\n💻 Transmissão ao vivo: youtube.com/live/TbobQyh2H1M?feature=share \nVenha conhecer os projetos que estão transformando o nosso ecossistema de inovação e torcer pelos talentos que estão nascendo aqui\, no Alto Vale! 💡🚀
URL:https://cinf.com.br/evento/pitch-final-regional-do-programa-nascer-rio-do-sul-27-10-presencial-e-online-18h30/
LOCATION:NPJ – Núcleo de Práticas Jurídicas Unidavi\, R. Júlio Roussenq Filho\, 273-299 - Jardim América\, Rio do Sul - SC\, 89160-000\, Rio do Sul\, SC\, Brazil
ATTACH;FMTTYPE=image/jpeg:https://cinf.com.br/wp-content/uploads/2025/10/27-10-final-nascer.jpg
END:VEVENT
END:VCALENDAR