BEGIN:VCALENDAR
VERSION:2.0
PRODID:-//CINF - Centro de Inovação Norberto Frahm - ECPv6.8.2//NONSGML v1.0//EN
CALSCALE:GREGORIAN
METHOD:PUBLISH
X-WR-CALNAME:CINF - Centro de Inovação Norberto Frahm
X-ORIGINAL-URL:https://cinf.com.br
X-WR-CALDESC:Eventos para CINF - Centro de Inovação Norberto Frahm
REFRESH-INTERVAL;VALUE=DURATION:PT1H
X-Robots-Tag:noindex
X-PUBLISHED-TTL:PT1H
BEGIN:VTIMEZONE
TZID:America/Sao_Paulo
BEGIN:STANDARD
TZOFFSETFROM:-0300
TZOFFSETTO:-0300
TZNAME:-03
DTSTART:20240101T000000
END:STANDARD
END:VTIMEZONE
BEGIN:VEVENT
DTSTART;TZID=America/Sao_Paulo:20240302T090000
DTEND;TZID=America/Sao_Paulo:20240302T110000
DTSTAMP:20260421T233126
CREATED:20240222T124723Z
LAST-MODIFIED:20240226T120415Z
UID:11452-1709370000-1709377200@cinf.com.br
SUMMARY:Workshop de Negociação - 02/03
DESCRIPTION:Participe do Workshop Gratuito de Negociação!\nÉ dia 02/03 (Sábado). Das 09h às 11h\, no CINF (sala 11). \nO que você vai aprender:\n– Negociação\n– Como se destacar no mercado de trabalho\n– O poder da comunicação persuasiva\n– Estratégias para alcançar o sucesso profissional. \nInscrição: https://docs.google.com/forms/d/e/1FAIpQLSdwzx6EtYZ9_t_o7VVVDZ3_eWLi3zJowFHJqyEeugr7H2EM8g/viewform \nNão perca essa oportunidade de estar à frente no mercado de trabalho!\nGaranta sua vaga agora mesmo!\nInscrições até 29 de fevereiro de 2024 \nRealização: @woiebike\nApoio: @cinfaltovale @unidavigtec
URL:https://cinf.com.br/evento/workshop-de-negociacao-02-03/
LOCATION:CINF – Centro de Inovação Norberto Frahm\, Rua Herculano Nunes Teixeira\, 105 - Budag\, Rio do Sul\, Santa Catarina\, 89165-475
ATTACH;FMTTYPE=image/jpeg:https://cinf.com.br/wp-content/uploads/2024/02/WorkshopNegociacao1.jpg
END:VEVENT
END:VCALENDAR