BEGIN:VCALENDAR
VERSION:2.0
PRODID:-//CINF - Centro de Inovação Norberto Frahm - ECPv6.8.2//NONSGML v1.0//EN
CALSCALE:GREGORIAN
METHOD:PUBLISH
X-ORIGINAL-URL:https://cinf.com.br
X-WR-CALDESC:Eventos para CINF - Centro de Inovação Norberto Frahm
REFRESH-INTERVAL;VALUE=DURATION:PT1H
X-Robots-Tag:noindex
X-PUBLISHED-TTL:PT1H
BEGIN:VTIMEZONE
TZID:America/Sao_Paulo
BEGIN:STANDARD
TZOFFSETFROM:-0300
TZOFFSETTO:-0300
TZNAME:-03
DTSTART:20230101T000000
END:STANDARD
END:VTIMEZONE
BEGIN:VEVENT
DTSTART;TZID=America/Sao_Paulo:20230706T083000
DTEND;TZID=America/Sao_Paulo:20230706T093000
DTSTAMP:20260422T150546
CREATED:20230529T115744Z
LAST-MODIFIED:20230626T135617Z
UID:10008-1688632200-1688635800@cinf.com.br
SUMMARY:Workshop CINF - Marketing Digital para Negócios Locais - 06/07
DESCRIPTION:Workshop de Julho/2023 do CINF será sobre Marketing Digital!!  ????????Como está o posicionamento do seu negócio nos meios digitais? No workshop de julho do CINF teremos o mentor CINF/GTEC\, Juarez Vinícius Miglioli (@ojuarezdigital) – Especialista em Marketing e Presença Online trazendo este conteúdo e como utilizar das ferramentas para impulsionar negócios locais. Bora?\nInformações do workshop:???? Data: 06/07/2023 – Quinta-feira????Horário: 8h30 até 9h30????Local : Centro de Inovação Norberto Frahm – CINF. \nInscrição aqui: https://bit.ly/workshopCINF-06-07Gratuito mas com vagas limitadas. Haverá certificado de participação.
URL:https://cinf.com.br/evento/workshop-cinf-marketing-digital-para-negocios-locais-15-06/
LOCATION:CINF – Centro de Inovação Norberto Frahm\, Rua Herculano Nunes Teixeira\, 105 - Budag\, Rio do Sul\, Santa Catarina\, 89165-475
ATTACH;FMTTYPE=image/png:https://cinf.com.br/wp-content/uploads/2023/05/Workshop-06.07-Juarez.png
END:VEVENT
END:VCALENDAR