BEGIN:VCALENDAR
VERSION:2.0
PRODID:-//CINF - Centro de Inovação Norberto Frahm - ECPv6.8.2//NONSGML v1.0//EN
CALSCALE:GREGORIAN
METHOD:PUBLISH
X-ORIGINAL-URL:https://cinf.com.br
X-WR-CALDESC:Eventos para CINF - Centro de Inovação Norberto Frahm
REFRESH-INTERVAL;VALUE=DURATION:PT1H
X-Robots-Tag:noindex
X-PUBLISHED-TTL:PT1H
BEGIN:VTIMEZONE
TZID:America/Sao_Paulo
BEGIN:STANDARD
TZOFFSETFROM:-0300
TZOFFSETTO:-0300
TZNAME:-03
DTSTART:20240101T000000
END:STANDARD
END:VTIMEZONE
BEGIN:VEVENT
DTSTART;TZID=America/Sao_Paulo:20240429T140000
DTEND;TZID=America/Sao_Paulo:20240429T150000
DTSTAMP:20260421T152758
CREATED:20240425T191433Z
LAST-MODIFIED:20240425T191433Z
UID:11868-1714399200-1714402800@cinf.com.br
SUMMARY:Circuito Tecnova Alto Vale - 29/04 - Online
DESCRIPTION:Participe do Circuito Tecnova Alto Vale\nNeste encontro online será apresentado o Edital 11/2024 – Programa Tecnova III/SC\, que destinará R$ 30 milhões em investimento para fomentar micro\, pequenas e médias empresas em todas as mesorregiões de Santa Catarina.\nA Coordenadora de Projetos da Fapesc\, Mariana Mezzaroba\, irá apresentar o Tecnova e tirar todas as dúvidas aos empresários da região. \n📆 29/04/2024\n🕒 14h\n🖥 Online\n🔗Inscrições – bit.ly/tecnova-altovale \n🔍 O QUE É O TECNOVA 3?\nO Tecnova 3 é um programa da Finep em parceria com a Fapesc\, criado com o objetivo de promover a inovação tecnológica. Ele oferece recursos de subvenção econômica especialmente voltados para empresas de micro\, pequeno e médio porte. O foco é claro: impulsionar o desenvolvimento de novos produtos e processos que possam revolucionar o mercado. \nO link de acesso será enviado aos inscritos. Garanta sua inscrição e até lá!!
URL:https://cinf.com.br/evento/circuito-tecnova-alto-vale-29-04-online/
LOCATION:Santa Catarina
ATTACH;FMTTYPE=image/jpeg:https://cinf.com.br/wp-content/uploads/2024/04/Tecnova.jpg
END:VEVENT
END:VCALENDAR