BEGIN:VCALENDAR
VERSION:2.0
PRODID:-//CINF - Centro de Inovação Norberto Frahm - ECPv6.8.2//NONSGML v1.0//EN
CALSCALE:GREGORIAN
METHOD:PUBLISH
X-ORIGINAL-URL:https://cinf.com.br
X-WR-CALDESC:Eventos para CINF - Centro de Inovação Norberto Frahm
REFRESH-INTERVAL;VALUE=DURATION:PT1H
X-Robots-Tag:noindex
X-PUBLISHED-TTL:PT1H
BEGIN:VTIMEZONE
TZID:America/Sao_Paulo
BEGIN:STANDARD
TZOFFSETFROM:-0300
TZOFFSETTO:-0300
TZNAME:-03
DTSTART:20240101T000000
END:STANDARD
END:VTIMEZONE
BEGIN:VEVENT
DTSTART;TZID=America/Sao_Paulo:20240207T183000
DTEND;TZID=America/Sao_Paulo:20240207T200000
DTSTAMP:20260421T233138
CREATED:20240126T113041Z
LAST-MODIFIED:20240206T125608Z
UID:11333-1707330600-1707336000@cinf.com.br
SUMMARY:Workshop - Preço Justo - Desvendando a arte da formação de preço de venda - 07/02 em Rio do Oeste
DESCRIPTION:Workshop – PREÇO JUSTO- Desvendando a arte da formação de preço de venda\, com Graselene Lindner \nData: 07/02/2024\nHora: Recepção com café a partir das 18h\, início 18h30min\nLocal: Celebrare Casa de Festas e Eventos\, 147\, Centro\, Rio do Oeste/SC. \nEvento gratuito e beneficente. Colabore com 1kg de alimento não perecível. \nFaça sua inscrição antecipada para garantir seu lugar! Vagas limitadas! https://forms.office.com/r/cU9VFdH72W \nMais informações: instagram.com/nume_riodooeste
URL:https://cinf.com.br/evento/workshop-preco-desvendando-a-arte-da-formacao-de-preco-de-venda/
LOCATION:Celebrare Casa de Festas e Eventos\, 147\, Centro\, Rio do Oeste\, SC\, 89180-000\, Brasil
ATTACH;FMTTYPE=image/jpeg:https://cinf.com.br/wp-content/uploads/2024/01/WorkshopPrecoJusto.jpg
END:VEVENT
BEGIN:VEVENT
DTSTART;TZID=America/Sao_Paulo:20240220T133000
DTEND;TZID=America/Sao_Paulo:20240220T143000
DTSTAMP:20260421T233138
CREATED:20240216T185036Z
LAST-MODIFIED:20240216T185036Z
UID:11434-1708435800-1708439400@cinf.com.br
SUMMARY:Encontro com Exportador - 20/02 - ACIRS
DESCRIPTION:🌐 ACIRS promove evento estratégico sobre Comércio Exterior! 🚀 \nParticipe do “Encontro com Exportador” em 20/02 às 13h30 na ACIRS. \nNa oportunide a Laleska de Quadros Grieger e a Camila Marques Bento\, da FACISC\, vão descomplicar o Certificado de Origem.\nE a Pamplona Alimentos vai apresentar o case de gestão de COMEX. \nEsperamos por você!\nFaça sua inscrição: https://bit.ly/encontroexportador
URL:https://cinf.com.br/evento/encontro-com-exportador-20-02-acirs/
LOCATION:Associação Empresarial de Rio do Sul – ACIRS\, Rua Herculano Nunes Teixeira\, 105\, Sala 2\, bairro Budag\, Rio do Sul\, SC\, 89165-478\, Brasil
ATTACH;FMTTYPE=image/png:https://cinf.com.br/wp-content/uploads/2024/02/Encontro-com-Exportador.png
END:VEVENT
END:VCALENDAR