BEGIN:VCALENDAR
VERSION:2.0
PRODID:-//CINF - Centro de Inovação Norberto Frahm - ECPv6.8.2//NONSGML v1.0//EN
CALSCALE:GREGORIAN
METHOD:PUBLISH
X-ORIGINAL-URL:https://cinf.com.br
X-WR-CALDESC:Eventos para CINF - Centro de Inovação Norberto Frahm
REFRESH-INTERVAL;VALUE=DURATION:PT1H
X-Robots-Tag:noindex
X-PUBLISHED-TTL:PT1H
BEGIN:VTIMEZONE
TZID:America/Sao_Paulo
BEGIN:STANDARD
TZOFFSETFROM:-0300
TZOFFSETTO:-0300
TZNAME:-03
DTSTART:20230101T000000
END:STANDARD
END:VTIMEZONE
BEGIN:VEVENT
DTSTART;TZID=America/Sao_Paulo:20230501T090000
DTEND;TZID=America/Sao_Paulo:20230501T120000
DTSTAMP:20260422T132647
CREATED:20230418T181135Z
LAST-MODIFIED:20230530T144039Z
UID:9789-1682931600-1682942400@cinf.com.br
SUMMARY:Pedal do Trabalhador - 01/05
DESCRIPTION:Pedal do Trabalhador em Rio do Sul – 01/05\n8h – Concentração no Parque Harry Hobus. 9h Saída.\n12h – Previsão de término do evento no Sesi Rio do Sul\n\nTrajeto: A concentração será no Parque Harry Hobus saída para o Elevado\, Rua 7 de Setembro\, Rua Dom Bosco\, Av. Ivo Silveira\, Rua Wenceslau Borini e termina no SESI. \nA participação é gratuita para todos!! Basta vir com a sua bike e trazer sua família e amigos. \nTambém haverá sorteio de brindes para os participantes no dia!! ???????? \nNão é necessário inscrição antecipada\, no dia haverá cadastro para participar do sorteio. \nMais informações: (47) 9 8815-8460 – Jorge – Fundação Municipal de Desportos de Rio do Sul.
URL:https://cinf.com.br/evento/pedal-do-trabalhador-01-05/
LOCATION:Santa Catarina
ATTACH;FMTTYPE=image/jpeg:https://cinf.com.br/wp-content/uploads/2023/04/01.05-Pedal.jpeg
END:VEVENT
BEGIN:VEVENT
DTSTART;TZID=America/Sao_Paulo:20230511T100000
DTEND;TZID=America/Sao_Paulo:20230511T120000
DTSTAMP:20260422T132647
CREATED:20230502T132325Z
LAST-MODIFIED:20230530T144022Z
UID:9823-1683799200-1683806400@cinf.com.br
SUMMARY:Evento: Startup Day - Acate Rio do Sul
DESCRIPTION:O Startup Day Acate é uma iniciativa da ACATE em parceria com o Núcleo de Tecnologia da Informação da ACIRS\, que representa a ACATE em Rio do Sul.\nO evento tem a intenção de desenvolver o conhecimento e a profissionalização das startups da nossa região\, oportunizando a troca de experiências entre empreendedores graduados e novos empreendedores do ecossistema com temas relevantes para o estágio de desenvolvimento das startups do Alto Vale do Itajaí. \nConfira aqui a programação do evento para esta primeira edição:\n10h00 – Abertura\n10h10 – Como conseguir os early adopters | Everton Porath | Effecti\n10h35 – KPI’s e métricas de vendas | Maira da Costa | Adove\n11h00 – Acate Startups e oportunidades do programa | Luis Gustavo | Acate\n11h10 – Painel sobre as oportunidades do nosso ecossistema\n12h00 – Encerramento \nFaça sua inscrição: https://eventos.acirs.com.br/evento/startup-day-acate-rio-do-sul
URL:https://cinf.com.br/evento/evento-startup-day-acate-rio-do-sul/
LOCATION:CINF – Centro de Inovação Norberto Frahm\, Rua Herculano Nunes Teixeira\, 105 - Budag\, Rio do Sul\, Santa Catarina\, 89165-475
ATTACH;FMTTYPE=image/jpeg:https://cinf.com.br/wp-content/uploads/2023/05/Startup-Day.jpeg
END:VEVENT
BEGIN:VEVENT
DTSTART;TZID=America/Sao_Paulo:20230517T140000
DTEND;TZID=America/Sao_Paulo:20230517T170000
DTSTAMP:20260422T132647
CREATED:20230502T124612Z
LAST-MODIFIED:20230530T144050Z
UID:9820-1684332000-1684342800@cinf.com.br
SUMMARY:Palestra: 10º FIESC INNOVATION TALKS! 17/05
DESCRIPTION:Está chegando! 10º FIESC INNOVATION TALKS! ???? \nUm evento com uma programação bem recheada de cases das nossas indústrias do Alto Vale\, o 10° FIESC TALKS INNOVATION vai tratar sobre o tema Conexão Indústrias x Universidades! \nTambém será apresentada a Plataforma de Conexão Indústrias x Universidades que tem por objetivo facilitar a conexão das demandas internas das indústrias\, na melhoria da gestão\, aumento da produtividade\, P&D\, inovação\, financeiro\, custos\, gestão de pessoas\, tributário e suprimentos e também acesso às estruturas\, laboratórios\, cursos e pesquisas realizadas na região para resolverem seus projetos internos com a ajuda das universidades. \nFaça sua inscrição em: https://forms.gle/MT9B1c4qijT5aJ8L9 \n????Dia 17/05 – 14h\, no Auditório do SESI em Rio do Sul.
URL:https://cinf.com.br/evento/palestra-10o-fiesc-innovation-talks-17-05/
LOCATION:Sesi Rio do Sul\, R. Pref. Wenceslau Borini\, 2690 - Canta Galo\, Rio do Sul - SC.\, Rio do Sul\, Santa Catarina\, 89160000\, Brasil
ATTACH;FMTTYPE=image/jpeg:https://cinf.com.br/wp-content/uploads/2023/05/Fiesc-Innovation-17.05.jpeg
END:VEVENT
BEGIN:VEVENT
DTSTART;VALUE=DATE:20230526
DTEND;VALUE=DATE:20230529
DTSTAMP:20260422T132647
CREATED:20230130T135735Z
LAST-MODIFIED:20230530T143542Z
UID:9094-1685059200-1685318399@cinf.com.br
SUMMARY:26\, 27 e 28/05 - SW Rio do Sul - Edição Agro
DESCRIPTION:26\, 27 e 28/05 – SW Rio do Sul\nTemática: Agro\nMais informações: www.instagram.com/swriodosul \n 
URL:https://cinf.com.br/evento/26-27-e-28-05-sw-rio-do-sul/
LOCATION:CINF – Centro de Inovação Norberto Frahm\, Rua Herculano Nunes Teixeira\, 105 - Budag\, Rio do Sul\, Santa Catarina\, 89165-475
ATTACH;FMTTYPE=image/jpeg:https://cinf.com.br/wp-content/uploads/2023/01/SW-AGRO.jpg
END:VEVENT
END:VCALENDAR