BEGIN:VCALENDAR
VERSION:2.0
PRODID:-//CINF - Centro de Inovação Norberto Frahm - ECPv6.8.2//NONSGML v1.0//EN
CALSCALE:GREGORIAN
METHOD:PUBLISH
X-ORIGINAL-URL:https://cinf.com.br
X-WR-CALDESC:Eventos para CINF - Centro de Inovação Norberto Frahm
REFRESH-INTERVAL;VALUE=DURATION:PT1H
X-Robots-Tag:noindex
X-PUBLISHED-TTL:PT1H
BEGIN:VTIMEZONE
TZID:America/Sao_Paulo
BEGIN:STANDARD
TZOFFSETFROM:-0300
TZOFFSETTO:-0300
TZNAME:-03
DTSTART:20250101T000000
END:STANDARD
END:VTIMEZONE
BEGIN:VEVENT
DTSTART;TZID=America/Sao_Paulo:20250917T190000
DTEND;TZID=America/Sao_Paulo:20250917T210000
DTSTAMP:20260422T050413
CREATED:20250915T123843Z
LAST-MODIFIED:20250915T123843Z
UID:14411-1758135600-1758142800@cinf.com.br
SUMMARY:Evento Fortalece Presidente Getúlio - 17/09
DESCRIPTION:Nesta semana – 17/09 – Quarta-feira – 19h\nLocal: Associação dos Aposentados e Pensionista de Presidente Getúlio\n📍https://maps.app.goo.gl/2wDzFppZAcbCjN5J7?g_st=ipc \n 
URL:https://cinf.com.br/evento/evento-fortalece-presidente-getulio-17-09/
LOCATION:Associação dos Aposentados e Pensionista de Presidente Getúlio\, R. das Missões\, 57 - Lot. da Familia Wilhelm\, Presidente Getúlio\, SC\, 89150000\, Brazil
ATTACH;FMTTYPE=image/jpeg:https://cinf.com.br/wp-content/uploads/2025/09/Fortlaece-PG.jpg
END:VEVENT
END:VCALENDAR