BEGIN:VCALENDAR
VERSION:2.0
PRODID:-//CINF - Centro de Inovação Norberto Frahm - ECPv6.8.2//NONSGML v1.0//EN
CALSCALE:GREGORIAN
METHOD:PUBLISH
X-ORIGINAL-URL:https://cinf.com.br
X-WR-CALDESC:Eventos para CINF - Centro de Inovação Norberto Frahm
REFRESH-INTERVAL;VALUE=DURATION:PT1H
X-Robots-Tag:noindex
X-PUBLISHED-TTL:PT1H
BEGIN:VTIMEZONE
TZID:America/Sao_Paulo
BEGIN:STANDARD
TZOFFSETFROM:-0300
TZOFFSETTO:-0300
TZNAME:-03
DTSTART:20230101T000000
END:STANDARD
END:VTIMEZONE
BEGIN:VEVENT
DTSTART;TZID=America/Sao_Paulo:20231010T090000
DTEND;TZID=America/Sao_Paulo:20231010T170000
DTSTAMP:20260422T193156
CREATED:20231003T111255Z
LAST-MODIFIED:20231003T111255Z
UID:10847-1696928400-1696957200@cinf.com.br
SUMMARY:Consultoria Gratuita Acirs - Atendimento ao Cliente - 10/10
DESCRIPTION:Consultoria Gratuita Acirs – Atendimento ao Cliente – Com Leonardo Sommariva \nData: 10/10\nHorário: 9h até 17h\nLocal: ACIRS\nMediante agendamento na Associação Empresarial de Rio do Sul  –  47 – 9 9128-2070 (WhatsApp) Denise
URL:https://cinf.com.br/evento/consultoria-gratuita-acirs-atendimento-ao-cliente-10-10/
ATTACH;FMTTYPE=image/jpeg:https://cinf.com.br/wp-content/uploads/2023/10/Consultoria-10.10.jpeg
END:VEVENT
END:VCALENDAR