BEGIN:VCALENDAR
VERSION:2.0
PRODID:-//CINF - Centro de Inovação Norberto Frahm - ECPv6.8.2//NONSGML v1.0//EN
CALSCALE:GREGORIAN
METHOD:PUBLISH
X-WR-CALNAME:CINF - Centro de Inovação Norberto Frahm
X-ORIGINAL-URL:https://cinf.com.br
X-WR-CALDESC:Eventos para CINF - Centro de Inovação Norberto Frahm
REFRESH-INTERVAL;VALUE=DURATION:PT1H
X-Robots-Tag:noindex
X-PUBLISHED-TTL:PT1H
BEGIN:VTIMEZONE
TZID:America/Sao_Paulo
BEGIN:STANDARD
TZOFFSETFROM:-0300
TZOFFSETTO:-0300
TZNAME:-03
DTSTART:20250101T000000
END:STANDARD
END:VTIMEZONE
BEGIN:VEVENT
DTSTART;TZID=America/Sao_Paulo:20251009T193000
DTEND;TZID=America/Sao_Paulo:20251009T203000
DTSTAMP:20260422T050737
CREATED:20250910T123707Z
LAST-MODIFIED:20250910T123730Z
UID:14398-1760038200-1760041800@cinf.com.br
SUMMARY:Inspira ACIAT- Com Cesar Cielo - 09/10 em Taió
DESCRIPTION:🏅 Campeão olímpico em Taió! Vem aí o nosso super evento! Inspira ACIAT\, histórias que transformam com Cesar Cielo 🏅🚀 \n🎟 Garanta já o seu ingresso!\n✅ Associados: entrem em contato com a ACIAT para garantir seu ingresso com valor especial 🎟\n➡️ Não associados: Garantam seu ingresso clicando no link da bio 🎟 \nVAGAS LIMITADAS ⚠️ \nO maior nadador da história do Brasil\, campeão olímpico e recordista mundial\, vem até nossa cidade para compartilhar uma palestra inspiradora sobre força\, superação e mentalidade de campeão. 🌊🔥 \n📅 Data: 09 de outubro\nHorário: 19h30\n📍 Local: Clube de Caça e Tiro de Taió \nNão perca a oportunidade única de ouvir de perto as histórias e lições de quem conquistou o topo do mundo. 🏅 \n🚀 Inspira ACIAT\, histórias que transformam!
URL:https://cinf.com.br/evento/inspira-aciat-com-cesar-cielo-09-10-em-taio/
ATTACH;FMTTYPE=image/jpeg:https://cinf.com.br/wp-content/uploads/2025/09/Evento-Taio.jpg
END:VEVENT
END:VCALENDAR