BEGIN:VCALENDAR
VERSION:2.0
PRODID:-//CINF - Centro de Inovação Norberto Frahm - ECPv6.8.2//NONSGML v1.0//EN
CALSCALE:GREGORIAN
METHOD:PUBLISH
X-WR-CALNAME:CINF - Centro de Inovação Norberto Frahm
X-ORIGINAL-URL:https://cinf.com.br
X-WR-CALDESC:Eventos para CINF - Centro de Inovação Norberto Frahm
REFRESH-INTERVAL;VALUE=DURATION:PT1H
X-Robots-Tag:noindex
X-PUBLISHED-TTL:PT1H
BEGIN:VTIMEZONE
TZID:America/Sao_Paulo
BEGIN:STANDARD
TZOFFSETFROM:-0300
TZOFFSETTO:-0300
TZNAME:-03
DTSTART:20250101T000000
END:STANDARD
END:VTIMEZONE
BEGIN:VEVENT
DTSTART;TZID=America/Sao_Paulo:20251125T190000
DTEND;TZID=America/Sao_Paulo:20251125T220000
DTSTAMP:20260423T060455
CREATED:20251125T122051Z
LAST-MODIFIED:20251125T122121Z
UID:14683-1764097200-1764108000@cinf.com.br
SUMMARY:Evento - Connect Industry 2025 Rio do Sul - 25/11
DESCRIPTION:Connect Industry 2025 é o encontro exclusivo que reúne os principais líderes das indústrias do Alto Vale do Itajaí para discutir o futuro da inovação\, da tecnologia e da gestão industrial no Brasil. \nMais do que um evento\, o Connect Industry é uma experiência nichada e reservada para quem está moldando o amanhã da indústria. Em um ambiente intimista e inspirador\, o Espaço Baviera\, em Rio do Sul —\, CEOs\, diretores\, gestores e profissionais de inovação se encontram para trocar ideias\, compartilhar cases reais e gerar conexões estratégicas de alto valor. \nPalestras com líderes nacionais e internacionais que são referência em transformação industrial\, inovação e tecnologia:\nSteven Rumsey — executivo global com trajetória em IA\, P&D e inovação estratégica.Sérgio Wonczewski — ex-WEG Motores\, referência em Lean e World Class Manufacturing. \nNetworking de impacto:Um encontro para 40 líderes das principais indústrias da região — um espaço onde negócios acontecem e parcerias nascem. \nData e Local:\n25 de novembro de 2025\nHorário: 19hEspaço Baviera — Rio do Sul (SC) \nLink de inscrição: https://www.sympla.com.br/evento/connect-industry-rio-do-sul/3192054?token=271e09db832da136a23afe4f0906282f
URL:https://cinf.com.br/evento/connect-industry-2025-rio-do-sul-25-11/
LOCATION:Espaço Baviera\, Albertina\, Rio do Sul - SC
ATTACH;FMTTYPE=image/jpeg:https://cinf.com.br/wp-content/uploads/2025/11/25-11-Connect-Industry.jpg
END:VEVENT
END:VCALENDAR