BEGIN:VCALENDAR
VERSION:2.0
PRODID:-//CINF - Centro de Inovação Norberto Frahm - ECPv6.8.2//NONSGML v1.0//EN
CALSCALE:GREGORIAN
METHOD:PUBLISH
X-ORIGINAL-URL:https://cinf.com.br
X-WR-CALDESC:Eventos para CINF - Centro de Inovação Norberto Frahm
REFRESH-INTERVAL;VALUE=DURATION:PT1H
X-Robots-Tag:noindex
X-PUBLISHED-TTL:PT1H
BEGIN:VTIMEZONE
TZID:America/Sao_Paulo
BEGIN:STANDARD
TZOFFSETFROM:-0300
TZOFFSETTO:-0300
TZNAME:-03
DTSTART:20230101T000000
END:STANDARD
END:VTIMEZONE
BEGIN:VEVENT
DTSTART;TZID=America/Sao_Paulo:20231129T183000
DTEND;TZID=America/Sao_Paulo:20231129T220000
DTSTAMP:20260425T182545
CREATED:20231023T122814Z
LAST-MODIFIED:20231110T145357Z
UID:11004-1701282600-1701295200@cinf.com.br
SUMMARY:Conexão Indústria: Práticas e estratégias para alavancar resultados - 29/11 - Brusque
DESCRIPTION:Evento Conexão Indústria – Práticas e estratégisa para alavancar resultados \n29 nov – 2023 • 18:30 até 22:00 \n\nEvento presencial em Auditório Bloco F – Centro Universitário de Brusque – UNIFEBE\, Brusque – SC \n\n\nCases das empresas:\n\nRiosulense – Apresentação sobre uso da Lei do Bem\, Lei nº 11.196/05\, criada como um incentivo fiscal em 2005\, com o objetivo de estimular a inovação tecnológica e a pesquisa científica\, permitindo que as empresas beneficiadas pela Lei do Bem possam investir em tecnologia e\, ao mesmo tempo\, reduzir a carga tributária\, através de benefícios fiscais como a redução do Imposto de Renda Pessoa Jurídica (IRPJ) e da Contribuição Social sobre o Lucro Líquido (CSLL). \nZen SA – Rota 2030\, Programa criado pelo Governo Federal com o objetivo de elaborar uma política industrial de longo prazo para o setor automotivo e de autopeças\, estimulando o investimento e o fortalecimento das empresas brasileiras do setor. Regulado pela Lei nº 13.755/2018\, o Programa define normas para a fabricação e a comercialização de veículos nacionais\, tendo em vista os próximos quinze anos de operação da indústria automotiva – divididos em três ciclos quinquenais. \nFlexmotronics – Experiência em participação de projetos\, cases de sucesso\, e a importância da participação no ecossistema de inovação gerando grandes conexões. \nArmazem Cloud – A cibersegurança é a prática de proteger redes\, dispositivos\, aplicativos\, sistemas e dados de ameaças cibernéticas. O objetivo geral é evitar ataques que tentem acessar ou destruir dados\, extorquir dinheiro ou interromper operações normais de negócios\, sejam internas ou externas à organização. \nVentureHero – Três experientes profissionais do setor corporativo se uniram para criar a Venture Hero\, uma aceleradora de negócios focada em empreendedores que desejam impulsionar o crescimento por meio da inovação. Com mais de 28 anos de experiência combinada\, a equipe da Venture Hero oferece suporte estratégico para empresas e startups que queiram utilizar a inovação como pilar estratégico de crescimento. \nLink de inscrição: https://www.sympla.com.br/evento/conexao-industria-praticas-e-estrategias-para-alavancar-resultados/2159964?share_id=whatsapp&referrer=cinf.com.br
URL:https://cinf.com.br/evento/conexao-industria-praticas-e-estrategias-para-alavancar-resultados-29-11-brusque/
LOCATION:Centro Universitário de Brusque – UNIFEBE\, R. Vendelino Maffezzolli\, 333\, Brusqye\, Santa Catarina\, 88352-360\, Brasil
ATTACH;FMTTYPE=image/png:https://cinf.com.br/wp-content/uploads/2023/10/conexao-industria-29.11.png
END:VEVENT
END:VCALENDAR